Workbook

Sheet Evaluación
A1: Evaluación de Personal
A2: Barrera de Control # 3
A3: Área Administrativa
A5: Evaluador | B5: William Sanches
A6: Personal Evaluado | B6: Yuleisi Pineda
A7: Fecha de evaluación | B7: 2026-11-04
A9: Formato de evaluación: Cumple ✔ Cumple Parcialmente ⚠ No Cumple ✘ No Aplica N/A | B9: REVISIÓN | N9: Puntos T.
A10: DESCRIPCIÓN | N10: =IF(B5="","",IF(COUNT(N12:N12)=0,"Sin pacientes",SUMIF(N12:N12,">=0",'Base de puntajes'!B12:B12)))
A11: CLASIFICACIÓN DE ADMISIONES | N11: =IF(B5="","",IF(COUNT(N12:N12)=0,"Sin Pacientes",SUM(N12:N12)))
A12: ¿Realiza clasificación de las admisiones según el orden establecido? ORDEN ESTABLECIDO: Urgentes Promesa del día Promesa futuras POSTERIORMENTE REVISA: Urgentes, pruebas de HIV, antidoping y alcoholemia Con orden médica Sin orden médica | B12: N/A | C12: N/A | D12: N/A | E12: N/A | F12: N/A | G12: N/A | H12: N/A | I12: N/A | J12: N/A | K12: N/A | L12: N/A | M12: N/A | N12: =IF($B$5="","",IF(COUNTA(B12:M12)-COUNTIF(B12:M12,"N/A")=0,"Sin pacientes",'Base de puntajes'!B12*(COUNTIF(B12:M12,"✔")+COUNTIF(B12:M12,"⚠")/2)/(COUNTA(B12:M12)-COUNTIF(B12:M12,"N/A"))))
A13: REVISIÓN DE LOS DATOS DEL PACIENTE | B13: BOLETAS | N13: =IF($B$5="","",IF(COUNT(N15:N17)=0,"Sin pacientes",SUMIF(N15:N17,">=0",'Base de puntajes'!B15:B17)))
B14: 1 | C14: 2 | D14: 3 | E14: 4 | F14: 5 | G14: 6 | H14: 7 | I14: 8 | J14: 9 | K14: 10 | L14: 11 | M14: 12 | N14: =IF($B$5="","",IF(COUNT(N15:N17)=0,"Sin Pacientes",SUM(N15:N17)))
A15: Sexo colocado correctamente | B15: ✔ | C15: ✔ | D15: ✔ | E15: ✔ | F15: ✔ | G15: ✔ | H15: ✔ | I15: ✔ | J15: ✔ | K15: ✔ | L15: ✔ | M15: ✔ | N15: =IF($B$5="","",IF(COUNTA(B15:M15)-COUNTIF(B15:M15,"N/A")=0,"Sin pacientes",'Base de puntajes'!B15*(COUNTIF(B15:M15,"✔")+COUNTIF(B15:M15,"⚠")/2)/(COUNTA(B15:M15)-COUNTIF(B15:M15,"N/A"))))
A16: Verifica si la foto coincide con la edad | B16: N/A | C16: ✔ | D16: N/A | E16: ✔ | F16: ✔ | G16: ✔ | H16: ✔ | I16: ✔ | J16: ✔ | K16: ✔ | L16: ✔ | M16: ✔ | N16: =IF($B$5="","",IF(COUNTA(B16:M16)-COUNTIF(B16:M16,"N/A")=0,"Sin pacientes",'Base de puntajes'!B16*(COUNTIF(B16:M16,"✔")+COUNTIF(B16:M16,"⚠")/2)/(COUNTA(B16:M16)-COUNTIF(B16:M16,"N/A"))))
A17: Si es niña o niño verifica el criterio establecido | B17: N/A | C17: N/A | D17: N/A | E17: N/A | F17: ✔ | G17: N/A | H17: N/A | I17: N/A | J17: N/A | K17: N/A | L17: N/A | M17: ✔ | N17: =IF($B$5="","",IF(COUNTA(B17:M17)-COUNTIF(B17:M17,"N/A")=0,"Sin pacientes",'Base de puntajes'!B17*(COUNTIF(B17:M17,"✔")+COUNTIF(B17:M17,"⚠")/2)/(COUNTA(B17:M17)-COUNTIF(B17:M17,"N/A"))))
A18: REVISIÓN DE SOLICITUD DE EXÁMENES CON ORDEN MÉDICA | B18: BOLETAS | N18: =IF($B$5="","",IF(COUNT(N20:N26)=0,"Sin pacientes",SUMIF(N20:N26,">=0",'Base de puntajes'!B20:B26)))
B19: 1 | C19: 2 | D19: 3 | E19: 4 | F19: 5 | G19: 6 | H19: 7 | I19: 8 | J19: 9 | K19: 10 | L19: 11 | M19: 12 | N19: =IF($B$5="","",IF(COUNT(N20:N26)=0,"Sin Pacientes",SUM(N20:N26)))
A20: Revisa nombre del paciente de la boleta contra el nombre en la orden médica. | B20: ✔ | C20: ✔ | D20: ✔ | E20: ✔ | F20: ✔ | G20: N/A | H20: ✔ | I20: ✔ | J20: ✔ | K20: ✔ | L20: ✔ | M20: ✔ | N20: =IF($B$5="","",IF(COUNTA(B20:M20)-COUNTIF(B20:M20,"N/A")=0,"Sin pacientes",'Base de puntajes'!B20*(COUNTIF(B20:M20,"✔")+COUNTIF(B20:M20,"⚠")/2)/(COUNTA(B20:M20)-COUNTIF(B20:M20,"N/A"))))
A21: Verifica que se coloco el nombre del médico | B21: ✔ | C21: N/A | D21: ✔ | E21: ✔ | F21: ✔ | G21: N/A | H21: ✔ | I21: ✔ | J21: ✔ | K21: ✔ | L21: ✔ | M21: ✔ | N21: =IF($B$5="","",IF(COUNTA(B21:M21)-COUNTIF(B21:M21,"N/A")=0,"Sin pacientes",'Base de puntajes'!B21*(COUNTIF(B21:M21,"✔")+COUNTIF(B21:M21,"⚠")/2)/(COUNTA(B21:M21)-COUNTIF(B21:M21,"N/A"))))
A22: Sigue procedimiento de agregar al médico sino se colocó | B22: N/A | C22: N/A | D22: N/A | E22: N/A | F22: N/A | G22: N/A | H22: N/A | I22: N/A | J22: N/A | K22: N/A | L22: N/A | M22: N/A | N22: =IF($B$5="","",IF(COUNTA(B22:M22)-COUNTIF(B22:M22,"N/A")=0,"Sin pacientes",'Base de puntajes'!B22*(COUNTIF(B22:M22,"✔")+COUNTIF(B22:M22,"⚠")/2)/(COUNTA(B22:M22)-COUNTIF(B22:M22,"N/A"))))
A23: Corrige nombre de médico (Si esta incorrecto) | B23: N/A | C23: N/A | D23: N/A | E23: N/A | F23: N/A | G23: N/A | H23: N/A | I23: N/A | J23: N/A | K23: N/A | L23: N/A | M23: N/A | N23: =IF($B$5="","",IF(COUNTA(B23:M23)-COUNTIF(B23:M23,"N/A")=0,"Sin pacientes",'Base de puntajes'!B23*(COUNTIF(B23:M23,"✔")+COUNTIF(B23:M23,"⚠")/2)/(COUNTA(B23:M23)-COUNTIF(B23:M23,"N/A"))))
A24: Realiza médico por prueba si la admisión tiene más de una orden médica o si amerita se realice (consultar en que casos se hace) | B24: N/A | C24: N/A | D24: N/A | E24: N/A | F24: N/A | G24: N/A | H24: N/A | I24: N/A | J24: N/A | K24: N/A | L24: N/A | M24: N/A | N24: =IF($B$5="","",IF(COUNTA(B24:M24)-COUNTIF(B24:M24,"N/A")=0,"Sin pacientes",'Base de puntajes'!B24*(COUNTIF(B24:M24,"✔")+COUNTIF(B24:M24,"⚠")/2)/(COUNTA(B24:M24)-COUNTIF(B24:M24,"N/A"))))
A25: Si no aparece el médico solicita se agregue al coordinador administrativo | B25: N/A | C25: N/A | D25: N/A | E25: N/A | F25: N/A | G25: N/A | H25: N/A | I25: N/A | J25: N/A | K25: N/A | L25: N/A | M25: N/A | N25: =IF($B$5="","",IF(COUNTA(B25:M25)-COUNTIF(B25:M25,"N/A")=0,"Sin pacientes",'Base de puntajes'!B25*(COUNTIF(B25:M25,"✔")+COUNTIF(B25:M25,"⚠")/2)/(COUNTA(B25:M25)-COUNTIF(B25:M25,"N/A"))))
A26: Firma en R.V.O.M. | B26: ✔ | C26: ✔ | D26: ✔ | E26: ✔ | F26: ✔ | G26: ✔ | H26: ✔ | I26: ✘ | J26: ✔ | K26: ✘ | L26: ✘ | M26: ✔ | N26: =IF($B$5="","",IF(COUNTA(B26:M26)-COUNTIF(B26:M26,"N/A")=0,"Sin pacientes",'Base de puntajes'!B26*(COUNTIF(B26:M26,"✔")+COUNTIF(B26:M26,"⚠")/2)/(COUNTA(B26:M26)-COUNTIF(B26:M26,"N/A"))))
A27: REVISIÓN DE BOLETAS CON PROCEDENCIA DE ASEGURADORAS | B27: BOLETAS | N27: =IF($B$5="","",IF(COUNT(N29:N32)=0,"Sin pacientes",SUMIF(N29:N32,">=0",'Base de puntajes'!B29:B32)))
B28: 1 | C28: 2 | D28: 3 | E28: 4 | F28: 5 | G28: 6 | H28: 7 | I28: 8 | J28: 9 | K28: 10 | L28: 11 | M28: 12 | N28: =IF($B$5="","",IF(COUNT(N29:N32)=0,"Sin Pacientes",SUM(N29:N32)))
A29: Verificar que se haya subido a la herramienta 19 la verificación de la cobertura de la póliza que se realiza a través de la página web | B29: N/A | C29: N/A | D29: N/A | E29: N/A | F29: N/A | G29: N/A | H29: N/A | I29: N/A | J29: N/A | K29: N/A | L29: N/A | M29: N/A | N29: =IF($B$5="","",IF(COUNTA(B29:M29)-COUNTIF(B29:M29,"N/A")=0,"Sin pacientes",'Base de puntajes'!B29*(COUNTIF(B29:M29,"✔")+COUNTIF(B29:M29,"⚠")/2)/(COUNTA(B29:M29)-COUNTIF(B29:M29,"N/A"))))
A30: Garantiza la cobertura de la póliza en aquellas aseguradoras que no tienen verificación de la póliza por la web, copia del carnet del asegurado | B30: N/A | C30: N/A | D30: N/A | E30: N/A | F30: N/A | G30: N/A | H30: N/A | I30: N/A | J30: N/A | K30: N/A | L30: N/A | M30: N/A | N30: =IF($B$5="","",IF(COUNTA(B30:M30)-COUNTIF(B30:M30,"N/A")=0,"Sin pacientes",'Base de puntajes'!B30*(COUNTIF(B30:M30,"✔")+COUNTIF(B30:M30,"⚠")/2)/(COUNTA(B30:M30)-COUNTIF(B30:M30,"N/A"))))
A31: Revisar que el adjunto corresponda al paciente, de no encontrarla hacer la consulta con el facturador | B31: N/A | C31: N/A | D31: N/A | E31: N/A | F31: N/A | G31: N/A | H31: N/A | I31: N/A | J31: N/A | K31: N/A | L31: N/A | M31: N/A | N31: =IF($B$5="","",IF(COUNTA(B31:M31)-COUNTIF(B31:M31,"N/A")=0,"Sin pacientes",'Base de puntajes'!B31*(COUNTIF(B31:M31,"✔")+COUNTIF(B31:M31,"⚠")/2)/(COUNTA(B31:M31)-COUNTIF(B31:M31,"N/A"))))
A32: Revisar que el copago y número de póliza sea correcto | B32: N/A | C32: N/A | D32: N/A | E32: N/A | F32: N/A | G32: N/A | H32: N/A | I32: N/A | J32: N/A | K32: N/A | L32: N/A | M32: N/A | N32: =IF($B$5="","",IF(COUNTA(B32:M32)-COUNTIF(B32:M32,"N/A")=0,"Sin pacientes",'Base de puntajes'!B32*(COUNTIF(B32:M32,"✔")+COUNTIF(B32:M32,"⚠")/2)/(COUNTA(B32:M32)-COUNTIF(B32:M32,"N/A"))))
A33: REVISIÓN DE BOLETAS CON PROCEDENCIA CORPORATIVA | B33: BOLETAS | N33: =IF($B$5="","",IF(COUNT(N35:N44)=0,"Sin pacientes",SUMIF(N35:N44,">=0",'Base de puntajes'!B35:B44)))
B34: 1 | C34: 2 | D34: 3 | E34: 4 | F34: 5 | G34: 6 | H34: 7 | I34: 8 | J34: 9 | K34: 10 | L34: 11 | M34: 12 | N34: =IF($B$5="","",IF(COUNT(N35:N44)=0,"Sin Pacientes",SUM(N35:N44)))
A35: Resalta la procedencia | B35: N/A | C35: ✔ | D35: N/A | E35: N/A | F35: N/A | G35: N/A | H35: N/A | I35: N/A | J35: N/A | K35: N/A | L35: N/A | M35: N/A | N35: =IF($B$5="","",IF(COUNTA(B35:M35)-COUNTIF(B35:M35,"N/A")=0,"Sin pacientes",'Base de puntajes'!B35*(COUNTIF(B35:M35,"✔")+COUNTIF(B35:M35,"⚠")/2)/(COUNTA(B35:M35)-COUNTIF(B35:M35,"N/A"))))
A36: Verifica fecha de emisión y validez | B36: N/A | C36: ✔ | D36: N/A | E36: N/A | F36: N/A | G36: N/A | H36: N/A | I36: N/A | J36: N/A | K36: N/A | L36: N/A | M36: N/A | N36: =IF($B$5="","",IF(COUNTA(B36:M36)-COUNTIF(B36:M36,"N/A")=0,"Sin pacientes",'Base de puntajes'!B36*(COUNTIF(B36:M36,"✔")+COUNTIF(B36:M36,"⚠")/2)/(COUNTA(B36:M36)-COUNTIF(B36:M36,"N/A"))))
A37: Datos del paciente | B37: N/A | C37: ⚠ | D37: N/A | E37: N/A | F37: N/A | G37: N/A | H37: N/A | I37: N/A | J37: N/A | K37: N/A | L37: N/A | M37: N/A | N37: =IF($B$5="","",IF(COUNTA(B37:M37)-COUNTIF(B37:M37,"N/A")=0,"Sin pacientes",'Base de puntajes'!B37*(COUNTIF(B37:M37,"✔")+COUNTIF(B37:M37,"⚠")/2)/(COUNTA(B37:M37)-COUNTIF(B37:M37,"N/A"))))
A38: Pruebas facturadas | B38: N/A | C38: ✔ | D38: N/A | E38: N/A | F38: N/A | G38: N/A | H38: N/A | I38: N/A | J38: N/A | K38: N/A | L38: N/A | M38: N/A | N38: =IF($B$5="","",IF(COUNTA(B38:M38)-COUNTIF(B38:M38,"N/A")=0,"Sin pacientes",'Base de puntajes'!B38*(COUNTIF(B38:M38,"✔")+COUNTIF(B38:M38,"⚠")/2)/(COUNTA(B38:M38)-COUNTIF(B38:M38,"N/A"))))
A39: Sigue procedimiento de omisión, si hay de más o por confusión de prueba | B39: N/A | C39: N/A | D39: N/A | E39: N/A | F39: N/A | G39: N/A | H39: N/A | I39: N/A | J39: N/A | K39: N/A | L39: N/A | M39: N/A | N39: =IF($B$5="","",IF(COUNTA(B39:M39)-COUNTIF(B39:M39,"N/A")=0,"Sin pacientes",'Base de puntajes'!B39*(COUNTIF(B39:M39,"✔")+COUNTIF(B39:M39,"⚠")/2)/(COUNTA(B39:M39)-COUNTIF(B39:M39,"N/A"))))
A40: Si no coincide (Procedencia, fecha de validez y datos del paciente) sigue los procedimientos para la corrección de la misma. (Validar conocimientos) | B40: N/A | C40: N/A | D40: N/A | E40: N/A | F40: N/A | G40: N/A | H40: N/A | I40: N/A | J40: N/A | K40: N/A | L40: N/A | M40: N/A | N40: =IF($B$5="","",IF(COUNTA(B40:M40)-COUNTIF(B40:M40,"N/A")=0,"Sin pacientes",'Base de puntajes'!B40*(COUNTIF(B40:M40,"✔")+COUNTIF(B40:M40,"⚠")/2)/(COUNTA(B40:M40)-COUNTIF(B40:M40,"N/A"))))
A41: Verifica firma de solicitud de exámenes en ausencia de una solicitud escrita | B41: N/A | C41: N/A | D41: N/A | E41: N/A | F41: N/A | G41: N/A | H41: N/A | I41: N/A | J41: N/A | K41: N/A | L41: N/A | M41: N/A | N41: =IF($B$5="","",IF(COUNTA(B41:M41)-COUNTIF(B41:M41,"N/A")=0,"Sin pacientes",'Base de puntajes'!B41*(COUNTIF(B41:M41,"✔")+COUNTIF(B41:M41,"⚠")/2)/(COUNTA(B41:M41)-COUNTIF(B41:M41,"N/A"))))
A42: Si existe la solicitud de prueba de HIV, verifica que se encuentre la hoja de consentimiento, de lo contrario sigue el procedimiento | B42: N/A | C42: N/A | D42: N/A | E42: N/A | F42: N/A | G42: N/A | H42: N/A | I42: N/A | J42: N/A | K42: N/A | L42: N/A | M42: N/A | N42: =IF($B$5="","",IF(COUNTA(B42:M42)-COUNTIF(B42:M42,"N/A")=0,"Sin pacientes",'Base de puntajes'!B42*(COUNTIF(B42:M42,"✔")+COUNTIF(B42:M42,"⚠")/2)/(COUNTA(B42:M42)-COUNTIF(B42:M42,"N/A"))))
A43: Verifica firma de VDP contra la copia de la identificación del paciente | B43: N/A | C43: ✔ | D43: N/A | E43: N/A | F43: N/A | G43: N/A | H43: N/A | I43: N/A | J43: N/A | K43: N/A | L43: N/A | M43: N/A | N43: =IF($B$5="","",IF(COUNTA(B43:M43)-COUNTIF(B43:M43,"N/A")=0,"Sin pacientes",'Base de puntajes'!B43*(COUNTIF(B43:M43,"✔")+COUNTIF(B43:M43,"⚠")/2)/(COUNTA(B43:M43)-COUNTIF(B43:M43,"N/A"))))
A44: Sube la documentación al +funciones 19 | B44: N/A | C44: ✔ | D44: N/A | E44: N/A | F44: N/A | G44: N/A | H44: N/A | I44: N/A | J44: N/A | K44: N/A | L44: N/A | M44: N/A | N44: =IF($B$5="","",IF(COUNTA(B44:M44)-COUNTIF(B44:M44,"N/A")=0,"Sin pacientes",'Base de puntajes'!B44*(COUNTIF(B44:M44,"✔")+COUNTIF(B44:M44,"⚠")/2)/(COUNTA(B44:M44)-COUNTIF(B44:M44,"N/A"))))
A45: REVISIÓN DE BOLETA PARA TRÁMITE LEGAL | B45: BOLETAS | N45: =IF($B$5="","",IF(COUNT(N47:N52)=0,"Sin pacientes",SUMIF(N47:N52,">=0",'Base de puntajes'!B47:B52)))
B46: 1 | C46: 2 | D46: 3 | E46: 4 | F46: 5 | G46: 6 | H46: 7 | I46: 8 | J46: 9 | K46: 10 | L46: 11 | M46: 12 | N46: =IF($B$5="","",IF(COUNT(N47:N52)=0,"Sin Pacientes",SUM(N47:N52)))
A47: ¿Esta activo el botón de legal? | B47: N/A | C47: ✔ | D47: N/A | E47: N/A | F47: N/A | G47: N/A | H47: N/A | I47: N/A | J47: N/A | K47: N/A | L47: N/A | M47: N/A | N47: =IF($B$5="","",IF(COUNTA(B47:M47)-COUNTIF(B47:M47,"N/A")=0,"Sin pacientes",'Base de puntajes'!B47*(COUNTIF(B47:M47,"✔")+COUNTIF(B47:M47,"⚠")/2)/(COUNTA(B47:M47)-COUNTIF(B47:M47,"N/A"))))
A48: ¿Revisó la firma de cédula verificada en recepción CVR? | B48: N/A | C48: ✘ | D48: N/A | E48: N/A | F48: N/A | G48: N/A | H48: N/A | I48: N/A | J48: N/A | K48: N/A | L48: N/A | M48: N/A | N48: =IF($B$5="","",IF(COUNTA(B48:M48)-COUNTIF(B48:M48,"N/A")=0,"Sin pacientes",'Base de puntajes'!B48*(COUNTIF(B48:M48,"✔")+COUNTIF(B48:M48,"⚠")/2)/(COUNTA(B48:M48)-COUNTIF(B48:M48,"N/A"))))
A49: ¿Revisó la firma de cédula verificada por el flebotomista CVF? | B49: N/A | C49: ✘ | D49: N/A | E49: N/A | F49: N/A | G49: N/A | H49: N/A | I49: N/A | J49: N/A | K49: N/A | L49: N/A | M49: N/A | N49: =IF($B$5="","",IF(COUNTA(B49:M49)-COUNTIF(B49:M49,"N/A")=0,"Sin pacientes",'Base de puntajes'!B49*(COUNTIF(B49:M49,"✔")+COUNTIF(B49:M49,"⚠")/2)/(COUNTA(B49:M49)-COUNTIF(B49:M49,"N/A"))))
A50: ¿Siguió procedimiento en caso de ausencia de firmas en CVR y CVF? | B50: N/A | C50: ✘ | D50: N/A | E50: N/A | F50: N/A | G50: N/A | H50: N/A | I50: N/A | J50: N/A | K50: N/A | L50: N/A | M50: N/A | N50: =IF($B$5="","",IF(COUNTA(B50:M50)-COUNTIF(B50:M50,"N/A")=0,"Sin pacientes",'Base de puntajes'!B50*(COUNTIF(B50:M50,"✔")+COUNTIF(B50:M50,"⚠")/2)/(COUNTA(B50:M50)-COUNTIF(B50:M50,"N/A"))))
A51: ¿Realizó activación de la verificación legal en el sistema en los datos del cliente? | B51: N/A | C51: ✔ | D51: N/A | E51: N/A | F51: N/A | G51: N/A | H51: N/A | I51: N/A | J51: N/A | K51: N/A | L51: N/A | M51: N/A | N51: =IF($B$5="","",IF(COUNTA(B51:M51)-COUNTIF(B51:M51,"N/A")=0,"Sin pacientes",'Base de puntajes'!B51*(COUNTIF(B51:M51,"✔")+COUNTIF(B51:M51,"⚠")/2)/(COUNTA(B51:M51)-COUNTIF(B51:M51,"N/A"))))
A52: ¿Realizó activación legal en los resultados del paciente? | B52: N/A | C52: ✔ | D52: N/A | E52: N/A | F52: N/A | G52: N/A | H52: N/A | I52: N/A | J52: N/A | K52: N/A | L52: N/A | M52: N/A | N52: =IF($B$5="","",IF(COUNTA(B52:M52)-COUNTIF(B52:M52,"N/A")=0,"Sin pacientes",'Base de puntajes'!B52*(COUNTIF(B52:M52,"✔")+COUNTIF(B52:M52,"⚠")/2)/(COUNTA(B52:M52)-COUNTIF(B52:M52,"N/A"))))
A53: REVISIÓN DE LA VDP Y BOLETA | B53: BOLETAS | N53: =IF($B$5="","",IF(COUNT(N55:N61)=0,"Sin pacientes",SUMIF(N55:N61,">=0",'Base de puntajes'!B55:B61)))
B54: 1 | C54: 2 | D54: 3 | E54: 4 | F54: 5 | G54: 6 | H54: 7 | I54: 8 | J54: 9 | K54: 10 | L54: 11 | M54: 12 | N54: =IF($B$5="","",IF(COUNT(N55:N61)=0,"Sin Pacientes",SUM(N55:N61)))
A55: Actualiza los datos de la VDP | B55: ✔ | C55: ✔ | D55: ✔ | E55: ✔ | F55: ✔ | G55: ✔ | H55: ✔ | I55: ✔ | J55: ✔ | K55: ✔ | L55: ✔ | M55: ✔ | N55: =IF($B$5="","",IF(COUNTA(B55:M55)-COUNTIF(B55:M55,"N/A")=0,"Sin pacientes",'Base de puntajes'!B55*(COUNTIF(B55:M55,"✔")+COUNTIF(B55:M55,"⚠")/2)/(COUNTA(B55:M55)-COUNTIF(B55:M55,"N/A"))))
A56: ¿Revisó el monto del saldo de la boleta contra el sistema? | B56: ✔ | C56: ✔ | D56: ✔ | E56: ✔ | F56: ✔ | G56: ✔ | H56: ✔ | I56: ✔ | J56: ✔ | K56: ✔ | L56: ✔ | M56: ✔ | N56: =IF($B$5="","",IF(COUNTA(B56:M56)-COUNTIF(B56:M56,"N/A")=0,"Sin pacientes",'Base de puntajes'!B56*(COUNTIF(B56:M56,"✔")+COUNTIF(B56:M56,"⚠")/2)/(COUNTA(B56:M56)-COUNTIF(B56:M56,"N/A"))))
A57: ¿Verifica que la factura este impresa? | B57: ✔ | C57: N/A | D57: ✔ | E57: ✔ | F57: ✔ | G57: ✔ | H57: ✔ | I57: ✔ | J57: ✔ | K57: ✔ | L57: ✔ | M57: ✔ | N57: =IF($B$5="","",IF(COUNTA(B57:M57)-COUNTIF(B57:M57,"N/A")=0,"Sin pacientes",'Base de puntajes'!B57*(COUNTIF(B57:M57,"✔")+COUNTIF(B57:M57,"⚠")/2)/(COUNTA(B57:M57)-COUNTIF(B57:M57,"N/A"))))
A58: a. Si la factura no está impresa sigue el procedimiento (validar conocimientos) | B58: N/A | C58: N/A | D58: N/A | E58: N/A | F58: N/A | G58: N/A | H58: N/A | I58: N/A | J58: N/A | K58: N/A | L58: N/A | M58: N/A | N58: =IF($B$5="","",IF(COUNTA(B58:M58)-COUNTIF(B58:M58,"N/A")=0,"Sin pacientes",'Base de puntajes'!B58*(COUNTIF(B58:M58,"✔")+COUNTIF(B58:M58,"⚠")/2)/(COUNTA(B58:M58)-COUNTIF(B58:M58,"N/A"))))
A59: ¿Verifica que las cuentas al crédito cumplan con las autorizaciones necesarias? | B59: N/A | C59: N/A | D59: N/A | E59: N/A | F59: N/A | G59: N/A | H59: N/A | I59: N/A | J59: N/A | K59: N/A | L59: N/A | M59: N/A | N59: =IF($B$5="","",IF(COUNTA(B59:M59)-COUNTIF(B59:M59,"N/A")=0,"Sin pacientes",'Base de puntajes'!B59*(COUNTIF(B59:M59,"✔")+COUNTIF(B59:M59,"⚠")/2)/(COUNTA(B59:M59)-COUNTIF(B59:M59,"N/A"))))
A60: ¿Verificó y colocó la forma de entrega de los resultados del cliente? (Si es E-mail o médico coloca los ganchos en el sistema) | B60: ✔ | C60: ✔ | D60: ✔ | E60: ✔ | F60: ✔ | G60: ✔ | H60: ✔ | I60: ✔ | J60: ✔ | K60: ✔ | L60: ✔ | M60: ✔ | N60: =IF($B$5="","",IF(COUNTA(B60:M60)-COUNTIF(B60:M60,"N/A")=0,"Sin pacientes",'Base de puntajes'!B60*(COUNTIF(B60:M60,"✔")+COUNTIF(B60:M60,"⚠")/2)/(COUNTA(B60:M60)-COUNTIF(B60:M60,"N/A"))))
A61: ¿Revisó la sección de notas de la boleta y en el sistema para confirmar si el paciente realizó alguna solicitud especial? | B61: ✔ | C61: ✔ | D61: ✔ | E61: ✔ | F61: ✔ | G61: ✔ | H61: ✔ | I61: ✔ | J61: ✔ | K61: ✔ | L61: ✔ | M61: ✔ | N61: =IF($B$5="","",IF(COUNTA(B61:M61)-COUNTIF(B61:M61,"N/A")=0,"Sin pacientes",'Base de puntajes'!B61*(COUNTIF(B61:M61,"✔")+COUNTIF(B61:M61,"⚠")/2)/(COUNTA(B61:M61)-COUNTIF(B61:M61,"N/A"))))
A62: OTRAS VERIFICACIONES Y CIERRE DE BARRERA 3 | B62: BOLETAS | N62: =IF($B$5="","",IF(COUNT(N64:N73)=0,"Sin pacientes",SUMIF(N64:N73,">=0",'Base de puntajes'!B64:B73)))
B63: 1 | C63: 2 | D63: 3 | E63: 4 | F63: 5 | G63: 6 | H63: 7 | I63: 8 | J63: 9 | K63: 10 | L63: 11 | M63: 12 | N63: =IF($B$5="","",IF(COUNT(N64:N73)=0,"Sin Pacientes",SUM(N64:N73)))
A64: ¿Colocó correctamente el día y hora de promesa? Aplica si el archivo tiene 2 referencias. | B64: ✔ | C64: ✔ | D64: ✔ | E64: ✔ | F64: ✔ | G64: N/A | H64: ✔ | I64: ✔ | J64: ✔ | K64: ✔ | L64: ✔ | M64: ✔ | N64: =IF($B$5="","",IF(COUNTA(B64:M64)-COUNTIF(B64:M64,"N/A")=0,"Sin pacientes",'Base de puntajes'!B64*(COUNTIF(B64:M64,"✔")+COUNTIF(B64:M64,"⚠")/2)/(COUNTA(B64:M64)-COUNTIF(B64:M64,"N/A"))))
A65: ¿Colocó correctamente hora de toma de muestra? | B65: ✔ | C65: ✔ | D65: ✔ | E65: ✔ | F65: ✔ | G65: ✔ | H65: ✔ | I65: ✔ | J65: ✔ | K65: ✔ | L65: ✔ | M65: ✔ | N65: =IF($B$5="","",IF(COUNTA(B65:M65)-COUNTIF(B65:M65,"N/A")=0,"Sin pacientes",'Base de puntajes'!B65*(COUNTIF(B65:M65,"✔")+COUNTIF(B65:M65,"⚠")/2)/(COUNTA(B65:M65)-COUNTIF(B65:M65,"N/A"))))
A66: Agrega mensaje al Tecnólogo con observaciones relacionadas a las pruebas a realizar (uso de antibióticos, indicación de procedencia de la muestra, etc.) | B66: N/A | C66: N/A | D66: ✔ | E66: N/A | F66: ✔ | G66: N/A | H66: N/A | I66: N/A | J66: N/A | K66: N/A | L66: ✔ | M66: N/A | N66: =IF($B$5="","",IF(COUNTA(B66:M66)-COUNTIF(B66:M66,"N/A")=0,"Sin pacientes",'Base de puntajes'!B66*(COUNTIF(B66:M66,"✔")+COUNTIF(B66:M66,"⚠")/2)/(COUNTA(B66:M66)-COUNTIF(B66:M66,"N/A"))))
A67: Coloca nota cuando el archivo tiene 2 o más referencias asociadas. | B67: N/A | C67: ✔ | D67: N/A | E67: N/A | F67: N/A | G67: N/A | H67: N/A | I67: N/A | J67: N/A | K67: N/A | L67: ✔ | M67: N/A | N67: =IF($B$5="","",IF(COUNTA(B67:M67)-COUNTIF(B67:M67,"N/A")=0,"Sin pacientes",'Base de puntajes'!B67*(COUNTIF(B67:M67,"✔")+COUNTIF(B67:M67,"⚠")/2)/(COUNTA(B67:M67)-COUNTIF(B67:M67,"N/A"))))
A68: Conoce el procedimiento en el caso de encontrar una boleta provisional de una muestra pendiente (validar conocimientos) | B68: N/A | C68: N/A | D68: N/A | E68: N/A | F68: N/A | G68: ✔ | H68: ✔ | I68: ✔ | J68: ✔ | K68: ✔ | L68: ✔ | M68: ✔ | N68: =IF($B$5="","",IF(COUNTA(B68:M68)-COUNTIF(B68:M68,"N/A")=0,"Sin pacientes",'Base de puntajes'!B68*(COUNTIF(B68:M68,"✔")+COUNTIF(B68:M68,"⚠")/2)/(COUNTA(B68:M68)-COUNTIF(B68:M68,"N/A"))))
A69: ¿Colocó nombre del flebotomista en el sistema de acuerdo a lo establecido en el instructivo? | B69: ✔ | C69: ✔ | D69: ✔ | E69: ✔ | F69: ✔ | G69: ✔ | H69: ✔ | I69: ✔ | J69: ✔ | K69: ✔ | L69: ✔ | M69: ✔ | N69: =IF($B$5="","",IF(COUNTA(B69:M69)-COUNTIF(B69:M69,"N/A")=0,"Sin pacientes",'Base de puntajes'!B69*(COUNTIF(B69:M69,"✔")+COUNTIF(B69:M69,"⚠")/2)/(COUNTA(B69:M69)-COUNTIF(B69:M69,"N/A"))))
A70: ¿Ordena la papelería de la admisión de acuerdo al orden establecido? | B70: ✔ | C70: ✔ | D70: ✔ | E70: ✔ | F70: ✔ | G70: ✔ | H70: ✔ | I70: ✔ | J70: ✔ | K70: ✔ | L70: ✔ | M70: ✔ | N70: =IF($B$5="","",IF(COUNTA(B70:M70)-COUNTIF(B70:M70,"N/A")=0,"Sin pacientes",'Base de puntajes'!B70*(COUNTIF(B70:M70,"✔")+COUNTIF(B70:M70,"⚠")/2)/(COUNTA(B70:M70)-COUNTIF(B70:M70,"N/A"))))
A71: ¿Colocó su nombre al lado del código como responsable de haber efectuado la revisión de la admisión? | B71: ✔ | C71: ✘ | D71: ✔ | E71: ✔ | F71: ✔ | G71: ✔ | H71: ✔ | I71: ✔ | J71: ✔ | K71: ✔ | L71: ✔ | M71: ✔ | N71: =IF($B$5="","",IF(COUNTA(B71:M71)-COUNTIF(B71:M71,"N/A")=0,"Sin pacientes",'Base de puntajes'!B71*(COUNTIF(B71:M71,"✔")+COUNTIF(B71:M71,"⚠")/2)/(COUNTA(B71:M71)-COUNTIF(B71:M71,"N/A"))))
A72: Levantó los servicios no conformes encontrados en el procedimiento de la barrera 3 | B72: N/A | C72: ✘ | D72: N/A | E72: N/A | F72: N/A | G72: N/A | H72: N/A | I72: N/A | J72: N/A | K72: N/A | L72: N/A | M72: N/A | N72: =IF($B$5="","",IF(COUNTA(B72:M72)-COUNTIF(B72:M72,"N/A")=0,"Sin pacientes",'Base de puntajes'!B72*(COUNTIF(B72:M72,"✔")+COUNTIF(B72:M72,"⚠")/2)/(COUNTA(B72:M72)-COUNTIF(B72:M72,"N/A"))))
A73: Verificar que la Barrera 3 digital se haya completado correctamente, cumpliendo con todos los puntos de revisión de la boleta, y que esta no aparezca en el sistema con el estado «BOLETA SIN REVISAR EN SISTEMA». | B73: ✔ | C73: ✔ | D73: ✔ | E73: ✔ | F73: ✔ | G73: ✔ | H73: ✔ | I73: ✔ | J73: ✔ | K73: ✔ | L73: ✔ | M73: ✔ | N73: =IF($B$5="","",IF(COUNTA(B73:M73)-COUNTIF(B73:M73,"N/A")=0,"Sin pacientes",'Base de puntajes'!B73*(COUNTIF(B73:M73,"✔")+COUNTIF(B73:M73,"⚠")/2)/(COUNTA(B73:M73)-COUNTIF(B73:M73,"N/A"))))
A74: TOTAL DE PUNTOS OBTENIDOS | B74: =H111
A75: PUNTOS TOTALES | B75: =B111
A83: Evaluación: ( T. Puntos obtenidos / Puntos Totales )*100
A84: Evaluación: | B84: =IF($B$5="","",IF(B111=0,0,H111/B111))
A85: Evaluación | B85: Rangos
A86: No Cumple | B86: 0 | D86: 0.65
A87: Cumple Parcialmente | B87: 0.66 | D87: 0.75
A88: Cumple | B88: 0.76 | D88: 1
A89: El mínimo debe ser 75 %
A91: Especificar los puntos de incumplimiento:
A92: Paciente 8 | Revisión de solicitudes de exámenes con orden médica | Firma en R.V.O.M. | No cumple
A93: Paciente 10 | Revisión de solicitudes de exámenes con orden médica | Firma en R.V.O.M. | No cumple
A94: Paciente 11 | Revisión de solicitudes de exámenes con orden médica | Firma en R.V.O.M. | No cumple
A95: Paciente 2 | Revisión de boletas con procedencia corporativa | Datos del paciente. | Cumple parcialmente
A96: Paciente 2 | Revisión de boleta para trámite legal | ¿Revisó la firma de cédula verificada en recepción CVR? | No cumple
A97: Paciente 2 | Revisión de boleta para trámite legal | ¿Revisó la firma de cédula verificada por el flebotomista CVF? | No cumple
A98: Paciente 2 | Revisión de boleta para trámite legal | ¿Siguió procedimiento en caso de ausencia de firmas en CVR y CVF? | No cumple
A99: Paciente 2 | Otras verificaciones y cierre de Barrera 3 | ¿Colocó su nombre al lado del código como responsable de haber efectuado la revisión de la admisión? | No cumple
A100: Paciente 2 | Otras verificaciones y cierre de Barrera 3 | Levantó los servicios no conformes encontrados en el procedimiento de Barrera 3. | No cumple
A102: Resumen de puntuación | B102: Puntos Totales | H102: Puntos Obtenidos
A103: ='Base de puntajes'!A80 -> CLASIFICACIÓN DE ADMISIONES | B103: =IF(AND(N10="Sin Pacientes",N11="Sin Pacientes"),"No evaluado",N10) | H103: =IF(B103="No evaluado","No evaluado",N11)
A104: ='Base de puntajes'!A81 -> REVISIÓN DE LOS DATOS DEL PACIENTE | B104: =IF(AND(N13="Sin Pacientes",N14="Sin Pacientes"),"No evaluado",N13) | H104: =IF(B104="No evaluado","No evaluado",N14)
A105: ='Base de puntajes'!A82 -> REVISIÓN DE SOLICITUD DE EXÁMENES CON ORDEN MÉDICA | B105: =IF(AND(N18="Sin Pacientes",N19="Sin Pacientes"),"No evaluado",N18) | H105: =IF(B105="No evaluado","No evaluado",N19)
A106: ='Base de puntajes'!A83 -> REVISIÓN DE BOLETAS CON PROCEDENCIA DE ASEGURADORAS | B106: =IF(AND(N27="Sin Pacientes",N28="Sin Pacientes"),"No evaluado",N27) | H106: =IF(B106="No evaluado","No evaluado",N28)
A107: ='Base de puntajes'!A84 -> REVISIÓN DE BOLETAS CON PROCEDENCIA CORPORATIVA | B107: =IF(AND(N33="Sin Pacientes",N34="Sin Pacientes"),"No evaluado",N33) | H107: =IF(B107="No evaluado","No evaluado",N34)
A108: ='Base de puntajes'!A85 -> REVISIÓN DE BOLETA PARA TRÁMITE LEGAL | B108: =IF(AND(N45="Sin Pacientes",N46="Sin Pacientes"),"No evaluado",N45) | H108: =IF(B108="No evaluado","No evaluado",N46)
A109: ='Base de puntajes'!A86 -> REVISIÓN DE LA VDP Y BOLETA | B109: =IF(AND(N53="Sin Pacientes",N54="Sin Pacientes"),"No evaluado",N53) | H109: =IF(B109="No evaluado","No evaluado",N54)
A110: ='Base de puntajes'!A87 -> OTRAS VERIFICACIONES Y CIERRE DE BARRERA 3 | B110: =IF(AND(N62="Sin Pacientes",N63="Sin Pacientes"),"No evaluado",N62) | H110: =IF(B110="No evaluado","No evaluado",N63)
A111: ='Base de puntajes'!A88 -> TOTAL | B111: =IF($B$5="","",SUM(B103:B110)) | H111: =IF($B$5="","",SUM(H103:H110))
...

Sheet Base de puntajes
J1: =A79 -> Descripción | K1: =C79 -> Porcentaje
J2: {=INDEX($A$80:$A$87, MATCH(1, ($C$80:$C$87=LARGE($C$80:$C$87,1))*(COUNTIF($J$1:J1, $A$80:$A$87)=0), 0))} -> REVISIÓN DE BOLETAS CON PROCEDENCIA CORPORATIVA | K2: =IFERROR(LARGE($C$80:$C$87,1), "") -> 0.20942408
A3: Puntuación del FC-RALY-159 | J3: {=INDEX($A$80:$A$87, MATCH(1, ($C$80:$C$87=LARGE($C$80:$C$87,2))*(COUNTIF($J$1:J2, $A$80:$A$87)=0), 0))} -> OTRAS VERIFICACIONES Y CIERRE DE BARRERA 3 | K3: =IFERROR(LARGE($C$80:$C$87,2), "") -> 0.17801047
J4: {=INDEX($A$80:$A$87, MATCH(1, ($C$80:$C$87=LARGE($C$80:$C$87,3))*(COUNTIF($J$1:J3, $A$80:$A$87)=0), 0))} -> REVISIÓN DE BOLETA PARA TRÁMITE LEGAL | K4: =IFERROR(LARGE($C$80:$C$87,3), "") -> 0.15183246
J5: {=INDEX($A$80:$A$87, MATCH(1, ($C$80:$C$87=LARGE($C$80:$C$87,4))*(COUNTIF($J$1:J4, $A$80:$A$87)=0), 0))} -> REVISIÓN DE SOLICITUD DE EXÁMENES CON ORDEN MÉDICA | K5: =IFERROR(LARGE($C$80:$C$87,4), "") -> 0.14136126
J6: {=INDEX($A$80:$A$87, MATCH(1, ($C$80:$C$87=LARGE($C$80:$C$87,5))*(COUNTIF($J$1:J5, $A$80:$A$87)=0), 0))} -> REVISIÓN DE LA VDP Y BOLETA | K6: =IFERROR(LARGE($C$80:$C$87,5), "") -> 0.13612565
J7: {=INDEX($A$80:$A$87, MATCH(1, ($C$80:$C$87=LARGE($C$80:$C$87,6))*(COUNTIF($J$1:J6, $A$80:$A$87)=0), 0))} -> REVISIÓN DE BOLETAS CON PROCEDENCIA DE ASEGURADORAS | K7: =IFERROR(LARGE($C$80:$C$87,6), "") -> 0.089005236
J8: {=INDEX($A$80:$A$87, MATCH(1, ($C$80:$C$87=LARGE($C$80:$C$87,7))*(COUNTIF($J$1:J7, $A$80:$A$87)=0), 0))} -> REVISIÓN DE LOS DATOS DEL PACIENTE | K8: =IFERROR(LARGE($C$80:$C$87,7), "") -> 0.068062827
A9: =Evaluación!A9 -> Formato de evaluación: Cumple ✔ Cumple Parcialmente ⚠ No Cumple ✘ No Aplica N/A | G9: Puntos | H9: Nivel de importancia
A10: =Evaluación!A10 -> DESCRIPCIÓN | B10: =SUM(B12:B12) -> 5 | G10: 5 | H10: Crítico: identificación, seguridad del paciente, confidencialidad o requisitos legales.
G11: 4 | H11: Alto: errores que afectan significativamente los procesos o requieren aplicar procedimientos especiales.
A12: =Evaluación!A12 -> ¿Realiza clasificación de las admisiones según el orden establecido? ORDEN ESTABLECIDO: Urgentes Promesa del día Promesa futuras POSTERIORMENTE REVISA: Urgentes, pruebas de HIV, antidoping y alcoholemia Con orden médica Sin orden médica | B12: 5 | G12: 3 | H12: Medio: verificaciones importantes o frecuentes.
A13: =Evaluación!A13 -> REVISIÓN DE LOS DATOS DEL PACIENTE | B13: =SUM(B15:B17) -> 13 | G13: 2 | H13: Básico: registros y verificaciones rutinarias.
G14: 1 | H14: Simple: actividades administrativas de fácil ejecución.
A15: =Evaluación!A15 -> Sexo colocado correctamente | B15: 5
A16: =Evaluación!A16 -> Verifica si la foto coincide con la edad | B16: 3
A17: =Evaluación!A17 -> Si es niña o niño verifica el criterio establecido | B17: 5
A18: =Evaluación!A18 -> REVISIÓN DE SOLICITUD DE EXÁMENES CON ORDEN MÉDICA | B18: =SUM(B20:B26) -> 27
A20: =Evaluación!A20 -> Revisa nombre del paciente de la boleta contra el nombre en la orden médica. | B20: 5
A21: =Evaluación!A21 -> Verifica que se coloco el nombre del médico | B21: 5
A22: =Evaluación!A22 -> Sigue procedimiento de agregar al médico sino se colocó | B22: 3
A23: =Evaluación!A23 -> Corrige nombre de médico (Si esta incorrecto) | B23: 5
A24: =Evaluación!A24 -> Realiza médico por prueba si la admisión tiene más de una orden médica o si amerita se realice (consultar en que casos se hace) | B24: 4
A25: =Evaluación!A25 -> Si no aparece el médico solicita se agregue al coordinador administrativo | B25: 3
A26: =Evaluación!A26 -> Firma en R.V.O.M. | B26: 2
A27: =Evaluación!A27 -> REVISIÓN DE BOLETAS CON PROCEDENCIA DE ASEGURADORAS | B27: =SUM(B29:B32) -> 17
A29: =Evaluación!A29 -> Verificar que se haya subido a la herramienta 19 la verificación de la cobertura de la póliza que se realiza a través de la página web | B29: 4
A30: =Evaluación!A30 -> Garantiza la cobertura de la póliza en aquellas aseguradoras que no tienen verificación de la póliza por la web, copia del carnet del asegurado | B30: 4
A31: =Evaluación!A31 -> Revisar que el adjunto corresponda al paciente, de no encontrarla hacer la consulta con el facturador | B31: 5
A32: =Evaluación!A32 -> Revisar que el copago y número de póliza sea correcto | B32: 4
A33: =Evaluación!A33 -> REVISIÓN DE BOLETAS CON PROCEDENCIA CORPORATIVA | B33: =SUM(B35:B44) -> 40
A35: =Evaluación!A35 -> Resalta la procedencia | B35: 1
A36: =Evaluación!A36 -> Verifica fecha de emisión y validez | B36: 4
A37: =Evaluación!A37 -> Datos del paciente | B37: 5
A38: =Evaluación!A38 -> Pruebas facturadas | B38: 5
A39: =Evaluación!A39 -> Sigue procedimiento de omisión, si hay de más o por confusión de prueba | B39: 4
A40: =Evaluación!A40 -> Si no coincide (Procedencia, fecha de validez y datos del paciente) sigue los procedimientos para la corrección de la misma. (Validar conocimientos) | B40: 5
A41: =Evaluación!A41 -> Verifica firma de solicitud de exámenes en ausencia de una solicitud escrita | B41: 4
A42: =Evaluación!A42 -> Si existe la solicitud de prueba de HIV, verifica que se encuentre la hoja de consentimiento, de lo contrario sigue el procedimiento | B42: 5
A43: =Evaluación!A43 -> Verifica firma de VDP contra la copia de la identificación del paciente | B43: 5
A44: =Evaluación!A44 -> Sube la documentación al +funciones 19 | B44: 2
A45: =Evaluación!A45 -> REVISIÓN DE BOLETA PARA TRÁMITE LEGAL | B45: =SUM(B47:B52) -> 29
A47: =Evaluación!A47 -> ¿Esta activo el botón de legal? | B47: 4
A48: =Evaluación!A48 -> ¿Revisó la firma de cédula verificada en recepción CVR? | B48: 5
A49: =Evaluación!A49 -> ¿Revisó la firma de cédula verificada por el flebotomista CVF? | B49: 5
A50: =Evaluación!A50 -> ¿Siguió procedimiento en caso de ausencia de firmas en CVR y CVF? | B50: 5
A51: =Evaluación!A51 -> ¿Realizó activación de la verificación legal en el sistema en los datos del cliente? | B51: 5
A52: =Evaluación!A52 -> ¿Realizó activación legal en los resultados del paciente? | B52: 5
A53: =Evaluación!A53 -> REVISIÓN DE LA VDP Y BOLETA | B53: =SUM(B55:B61) -> 26
A55: =Evaluación!A55 -> Actualiza los datos de la VDP | B55: 4
A56: =Evaluación!A56 -> ¿Revisó el monto del saldo de la boleta contra el sistema? | B56: 4
A57: =Evaluación!A57 -> ¿Verifica que la factura este impresa? | B57: 2
A58: =Evaluación!A58 -> a. Si la factura no está impresa sigue el procedimiento (validar conocimientos) | B58: 3
A59: =Evaluación!A59 -> ¿Verifica que las cuentas al crédito cumplan con las autorizaciones necesarias? | B59: 5
A60: =Evaluación!A60 -> ¿Verificó y colocó la forma de entrega de los resultados del cliente? (Si es E-mail o médico coloca los ganchos en el sistema) | B60: 4
A61: =Evaluación!A61 -> ¿Revisó la sección de notas de la boleta y en el sistema para confirmar si el paciente realizó alguna solicitud especial? | B61: 4
A62: =Evaluación!A62 -> OTRAS VERIFICACIONES Y CIERRE DE BARRERA 3 | B62: =SUM(B64:B73) -> 34
A64: =Evaluación!A64 -> ¿Colocó correctamente el día y hora de promesa? Aplica si el archivo tiene 2 referencias. | B64: 3
A65: =Evaluación!A65 -> ¿Colocó correctamente hora de toma de muestra? | B65: 3
A66: =Evaluación!A66 -> Agrega mensaje al Tecnólogo con observaciones relacionadas a las pruebas a realizar (uso de antibióticos, indicación de procedencia de la muestra, etc.) | B66: 4
A67: =Evaluación!A67 -> Coloca nota cuando el archivo tiene 2 o más referencias asociadas. | B67: 3
A68: =Evaluación!A68 -> Conoce el procedimiento en el caso de encontrar una boleta provisional de una muestra pendiente (validar conocimientos) | B68: 4
A69: =Evaluación!A69 -> ¿Colocó nombre del flebotomista en el sistema de acuerdo a lo establecido en el instructivo? | B69: 3
A70: =Evaluación!A70 -> ¿Ordena la papelería de la admisión de acuerdo al orden establecido? | B70: 2
A71: =Evaluación!A71 -> ¿Colocó su nombre al lado del código como responsable de haber efectuado la revisión de la admisión? | B71: 2
A72: =Evaluación!A72 -> Levantó los servicios no conformes encontrados en el procedimiento de la barrera 3 | B72: 5
A73: =Evaluación!A73 -> Verificar que la Barrera 3 digital se haya completado correctamente, cumpliendo con todos los puntos de revisión de la boleta, y que esta no aparezca en el sistema con el estado «BOLETA SIN REVISAR EN SISTEMA». | B73: 5
A78: Resumen de puntaje
A79: Descripción | B79: Fórmulas | C79: Porcentaje
A80: ='Resumen Evaluación'!A31 -> CLASIFICACIÓN DE ADMISIONES | B80: =B10 -> 5 | C80: =B80/$B$88 -> 0.02617801
A81: ='Resumen Evaluación'!A32 -> REVISIÓN DE LOS DATOS DEL PACIENTE | B81: =B13 -> 13 | C81: =B81/$B$88 -> 0.068062827
A82: ='Resumen Evaluación'!A33 -> REVISIÓN DE SOLICITUD DE EXÁMENES CON ORDEN MÉDICA | B82: =B18 -> 27 | C82: =B82/$B$88 -> 0.14136126
A83: ='Resumen Evaluación'!A34 -> REVISIÓN DE BOLETAS CON PROCEDENCIA DE ASEGURADORAS | B83: =B27 -> 17 | C83: =B83/$B$88 -> 0.089005236
A84: ='Resumen Evaluación'!A35 -> REVISIÓN DE BOLETAS CON PROCEDENCIA CORPORATIVA | B84: =B33 -> 40 | C84: =B84/$B$88 -> 0.20942408
A85: ='Resumen Evaluación'!A36 -> REVISIÓN DE BOLETA PARA TRÁMITE LEGAL | B85: =B45 -> 29 | C85: =B85/$B$88 -> 0.15183246
A86: ='Resumen Evaluación'!A37 -> REVISIÓN DE LA VDP Y BOLETA | B86: =B53 -> 26 | C86: =B86/$B$88 -> 0.13612565
A87: ='Resumen Evaluación'!A38 -> OTRAS VERIFICACIONES Y CIERRE DE BARRERA 3 | B87: =B62 -> 34 | C87: =B87/$B$88 -> 0.17801047
A88: TOTAL | B88: =SUM(B80:B87) -> 191 | C88: =SUM(C80:C87) -> 1

Sheet Resumen Evaluación
A1: RESUMEN DE EVALUACIÓN - DATOS
A3: Mayor perdidas de puntos proporcional en: | F3: Mayor cantidad de Incidencias en:
A4: Nº | B4: Sección de Incidencia | F4: Nº | G4: Items de Incidencia | H4: Incidencias
A5: 1 | B5: =IF(B9="⏰ Evaluando", "⏰ Evaluando", INDEX(A$31:A$38, MATCH(SMALL(D$31:D$38, 1), D$31:D$38, 0))) -> ⏰ Evaluando | F5: 1 | G5: =IF($B$9="⏰ Evaluando", "⏰ Evaluando", IF($B$9="", "", 'Base de datos de Item'!D2)) -> ⏰ Evaluando | H5: =IF($B$9="⏰ Evaluando", "⏰ Evaluando", IF($B$9="", "", 'Base de datos de Item'!E2)) -> ⏰ Evaluando
A6: 2 | B6: =IF(B9="⏰ Evaluando", "⏰ Evaluando", INDEX(A$31:A$38, MATCH(SMALL(D$31:D$38, 2), D$31:D$38, 0))) -> ⏰ Evaluando | F6: 2 | G6: =IF($B$9="⏰ Evaluando", "⏰ Evaluando", IF($B$9="", "", 'Base de datos de Item'!D3)) -> ⏰ Evaluando | H6: =IF($B$9="⏰ Evaluando", "⏰ Evaluando", IF($B$9="", "", 'Base de datos de Item'!E3)) -> ⏰ Evaluando
A7: 3 | B7: {=IF(B9="⏰ Evaluando", "⏰ Evaluando", INDEX(A$31:A$38, Z32))} -> ⏰ Evaluando | F7: 3 | G7: =IF($B$9="⏰ Evaluando", "⏰ Evaluando", IF($B$9="", "", 'Base de datos de Item'!D4)) -> ⏰ Evaluando | H7: =IF($B$9="⏰ Evaluando", "⏰ Evaluando", IF($B$9="", "", 'Base de datos de Item'!E4)) -> ⏰ Evaluando
A9: Puntos totales | B9: =IF(B39=0,"",C39/B39)
A29: Datos Comparativos | M29: =$G31>=SMALL($D$31:$D$38,3) -> #NUM!
A30: Descripción | B30: Puntos Totales | C30: Puntos obtenidos | D30: Calificación por sección | E30: Porcentaje Total | F30: Porcentaje Obtenido | G30: Diferencia de puntos | H30: Diferencia de % | V30: ✔ | W30: 2 | X30: 3 | Z30: =SMALL(D$31:D$38,3) -> #NUM!
A31: =Evaluación!A11 -> CLASIFICACIÓN DE ADMISIONES | B31: =Evaluación!B103 | C31: =Evaluación!H103 | D31: =IF(AND(ISNUMBER(B31),ISNUMBER(C31),B31>0),C31/B31,"") | E31: =IF(AND(ISNUMBER(B31),$B$39>0),B31/$B$39,0) | F31: =IF(AND(ISNUMBER(C31),$B$39>0),C31/$B$39,0) | G31: =IF(AND(ISNUMBER(B31),ISNUMBER(C31)),B31-C31,"") | H31: =IF(AND(ISNUMBER(E31),ISNUMBER(F31)),E31-F31,"") | V31: ⚠ | W31: 1 | X31: 2
A32: =Evaluación!A13 -> REVISIÓN DE LOS DATOS DEL PACIENTE | B32: =Evaluación!B104 | C32: =Evaluación!H104 | D32: =IF(AND(ISNUMBER(B32),ISNUMBER(C32),B32>0),C32/B32,"") | E32: =IF(AND(ISNUMBER(B32),$B$39>0),B32/$B$39,0) | F32: =IF(AND(ISNUMBER(C32),$B$39>0),C32/$B$39,0) | G32: =IF(AND(ISNUMBER(B32),ISNUMBER(C32)),B32-C32,"") | H32: =IF(AND(ISNUMBER(E32),ISNUMBER(F32)),E32-F32,"") | V32: ✘ | W32: 0 | X32: 1 | Z32: {=MATCH(1, (D$31:D$38=Z30)*(G$31:G$38=MIN(IF(D$31:D$38=Z30, G$31:G$38))), 0)} -> #N/A
A33: =Evaluación!A18 -> REVISIÓN DE SOLICITUD DE EXÁMENES CON ORDEN MÉDICA | B33: =Evaluación!B105 | C33: =Evaluación!H105 | D33: =IF(AND(ISNUMBER(B33),ISNUMBER(C33),B33>0),C33/B33,"") | E33: =IF(AND(ISNUMBER(B33),$B$39>0),B33/$B$39,0) | F33: =IF(AND(ISNUMBER(C33),$B$39>0),C33/$B$39,0) | G33: =IF(AND(ISNUMBER(B33),ISNUMBER(C33)),B33-C33,"") | H33: =IF(AND(ISNUMBER(E33),ISNUMBER(F33)),E33-F33,"") | V33: N/A
A34: =Evaluación!A27 -> REVISIÓN DE BOLETAS CON PROCEDENCIA DE ASEGURADORAS | B34: =Evaluación!B106 | C34: =Evaluación!H106 | D34: =IF(AND(ISNUMBER(B34),ISNUMBER(C34),B34>0),C34/B34,"") | E34: =IF(AND(ISNUMBER(B34),$B$39>0),B34/$B$39,0) | F34: =IF(AND(ISNUMBER(C34),$B$39>0),C34/$B$39,0) | G34: =IF(AND(ISNUMBER(B34),ISNUMBER(C34)),B34-C34,"") | H34: =IF(AND(ISNUMBER(E34),ISNUMBER(F34)),E34-F34,"")
A35: =Evaluación!A33 -> REVISIÓN DE BOLETAS CON PROCEDENCIA CORPORATIVA | B35: =Evaluación!B107 | C35: =Evaluación!H107 | D35: =IF(AND(ISNUMBER(B35),ISNUMBER(C35),B35>0),C35/B35,"") | E35: =IF(AND(ISNUMBER(B35),$B$39>0),B35/$B$39,0) | F35: =IF(AND(ISNUMBER(C35),$B$39>0),C35/$B$39,0) | G35: =IF(AND(ISNUMBER(B35),ISNUMBER(C35)),B35-C35,"") | H35: =IF(AND(ISNUMBER(E35),ISNUMBER(F35)),E35-F35,"")
A36: =Evaluación!A45 -> REVISIÓN DE BOLETA PARA TRÁMITE LEGAL | B36: =Evaluación!B108 | C36: =Evaluación!H108 | D36: =IF(AND(ISNUMBER(B36),ISNUMBER(C36),B36>0),C36/B36,"") | E36: =IF(AND(ISNUMBER(B36),$B$39>0),B36/$B$39,0) | F36: =IF(AND(ISNUMBER(C36),$B$39>0),C36/$B$39,0) | G36: =IF(AND(ISNUMBER(B36),ISNUMBER(C36)),B36-C36,"") | H36: =IF(AND(ISNUMBER(E36),ISNUMBER(F36)),E36-F36,"")
A37: =Evaluación!A53 -> REVISIÓN DE LA VDP Y BOLETA | B37: =Evaluación!B109 | C37: =Evaluación!H109 | D37: =IF(AND(ISNUMBER(B37),ISNUMBER(C37),B37>0),C37/B37,"") | E37: =IF(AND(ISNUMBER(B37),$B$39>0),B37/$B$39,0) | F37: =IF(AND(ISNUMBER(C37),$B$39>0),C37/$B$39,0) | G37: =IF(AND(ISNUMBER(B37),ISNUMBER(C37)),B37-C37,"") | H37: =IF(AND(ISNUMBER(E37),ISNUMBER(F37)),E37-F37,"")
A38: =Evaluación!A62 -> OTRAS VERIFICACIONES Y CIERRE DE BARRERA 3 | B38: =Evaluación!B110 | C38: =Evaluación!H110 | D38: =IF(AND(ISNUMBER(B38),ISNUMBER(C38),B38>0),C38/B38,"") | E38: =IF(AND(ISNUMBER(B38),$B$39>0),B38/$B$39,0) | F38: =IF(AND(ISNUMBER(C38),$B$39>0),C38/$B$39,0) | G38: =IF(AND(ISNUMBER(B38),ISNUMBER(C38)),B38-C38,"") | H38: =IF(AND(ISNUMBER(E38),ISNUMBER(F38)),E38-F38,"")
A39: TOTAL | B39: =SUM(B31:B38) | C39: =SUM(C31:C38) | D39: =IF(B39>0,C39/B39,0) | E39: =IF(B39>0,1,0) | F39: =IF(B39>0,C39/B39,0) | G39: =B39-C39 | H39: =E39-F39
A41: Definición
B42: Mayor perdida de puntos
B43: Segunda perdida de puntos

Sheet Base de datos de Item
A1: Descripción | B1: Cantidad | I1: Descripción | J1: Porcentaje Obtenido
A2: =Evaluación!A12 -> ¿Realiza clasificación de las admisiones según el orden establecido? ORDEN ESTABLECIDO: Urgentes Promesa del día Promesa futuras POSTERIORMENTE REVISA: Urgentes, pruebas de HIV, antidoping y alcoholemia Con orden médica Sin orden médica | B2: =Evaluación!N12 | D2: {=INDEX(A:A, MATCH(1, (B:B=LARGE(B:B,1))*(COUNTIF($D$1:D1, A:A)=0), 0))} -> #N/A | E2: =IFERROR(LARGE(B:B,1), "") | I2: {=INDEX('Resumen Evaluación'!$A$30:$A$38, MATCH(1, ('Resumen Evaluación'!$D$30:$D$38=SMALL('Resumen Evaluación'!$D$30:$D$38,1))*( COUNTIF($I$1:I1,'Resumen Evaluación'!$A$30:$A$38)=0), 0))} -> #N/A | J2: =IFERROR(SMALL('Resumen Evaluación'!$D$31:$D$38,1), "")
A3: =Evaluación!A15 -> Sexo colocado correctamente | B3: =Evaluación!N15 | D3: {=INDEX(A:A, MATCH(1, (B:B=LARGE(B:B,2))*(COUNTIF($D$1:D2, A:A)=0), 0))} -> #N/A | E3: =IFERROR(LARGE(B:B,2), "") | I3: {=INDEX('Resumen Evaluación'!$A$30:$A$38, MATCH(1, ('Resumen Evaluación'!$D$30:$D$38=SMALL('Resumen Evaluación'!$D$30:$D$38,2))*( COUNTIF($I$1:I2,'Resumen Evaluación'!$A$30:$A$38)=0), 0))} -> #N/A | J3: =IFERROR(SMALL('Resumen Evaluación'!$D$31:$D$38,2), "")
A4: =Evaluación!A16 -> Verifica si la foto coincide con la edad | B4: =Evaluación!N16 | D4: {=INDEX(A:A, MATCH(1, (B:B=LARGE(B:B,3))*(COUNTIF($D$1:D3, A:A)=0), 0))} -> #N/A | E4: =IFERROR(LARGE(B:B,3), "") | I4: {=INDEX('Resumen Evaluación'!$A$30:$A$38, MATCH(1, ('Resumen Evaluación'!$D$30:$D$38=SMALL('Resumen Evaluación'!$D$30:$D$38,3))*( COUNTIF($I$1:I3,'Resumen Evaluación'!$A$30:$A$38)=0), 0))} -> #N/A | J4: =IFERROR(SMALL('Resumen Evaluación'!$D$31:$D$38,3), "")
A5: =Evaluación!A17 -> Si es niña o niño verifica el criterio establecido | B5: =Evaluación!N17 | I5: {=INDEX('Resumen Evaluación'!$A$30:$A$38, MATCH(1, ('Resumen Evaluación'!$D$30:$D$38=SMALL('Resumen Evaluación'!$D$30:$D$38,4))*( COUNTIF($I$1:I4,'Resumen Evaluación'!$A$30:$A$38)=0), 0))} -> #N/A | J5: =IFERROR(SMALL('Resumen Evaluación'!$D$31:$D$38,4), "")
A6: =Evaluación!A20 -> Revisa nombre del paciente de la boleta contra el nombre en la orden médica. | B6: =Evaluación!N20 | I6: {=INDEX('Resumen Evaluación'!$A$30:$A$38, MATCH(1, ('Resumen Evaluación'!$D$30:$D$38=SMALL('Resumen Evaluación'!$D$30:$D$38,5))*( COUNTIF($I$1:I5,'Resumen Evaluación'!$A$30:$A$38)=0), 0))} -> #N/A | J6: =IFERROR(SMALL('Resumen Evaluación'!$D$31:$D$38,5), "")
A7: =Evaluación!A21 -> Verifica que se coloco el nombre del médico | B7: =Evaluación!N21
A8: =Evaluación!A22 -> Sigue procedimiento de agregar al médico sino se colocó | B8: =Evaluación!N22
A9: =Evaluación!A23 -> Corrige nombre de médico (Si esta incorrecto) | B9: =Evaluación!N23
A10: =Evaluación!A24 -> Realiza médico por prueba si la admisión tiene más de una orden médica o si amerita se realice (consultar en que casos se hace) | B10: =Evaluación!N24
A11: =Evaluación!A25 -> Si no aparece el médico solicita se agregue al coordinador administrativo | B11: =Evaluación!N25
A12: =Evaluación!A26 -> Firma en R.V.O.M. | B12: =Evaluación!N26
A13: =Evaluación!A29 -> Verificar que se haya subido a la herramienta 19 la verificación de la cobertura de la póliza que se realiza a través de la página web | B13: =Evaluación!N29 | I13: {=INDEX('Resumen Evaluación'!$A$30:$A$38, MATCH(1, ('Resumen Evaluación'!$D$30:$D$38=SMALL('Resumen Evaluación'!$D$30:$D$38,6))*( COUNTIF($I$1:I6,'Resumen Evaluación'!$A$30:$A$38)=0), 0))} -> #N/A | J13: =IFERROR(SMALL('Resumen Evaluación'!$D$31:$D$38,6), "")
A14: =Evaluación!A30 -> Garantiza la cobertura de la póliza en aquellas aseguradoras que no tienen verificación de la póliza por la web, copia del carnet del asegurado | B14: =Evaluación!N30 | I14: {=INDEX('Resumen Evaluación'!$A$30:$A$38, MATCH(1, ('Resumen Evaluación'!$D$30:$D$38=SMALL('Resumen Evaluación'!$D$30:$D$38,7))*( COUNTIF($I$1:I13,'Resumen Evaluación'!$A$30:$A$38)=0), 0))} -> #N/A | J14: =IFERROR(SMALL('Resumen Evaluación'!$D$31:$D$38,7), "")
A15: =Evaluación!A31 -> Revisar que el adjunto corresponda al paciente, de no encontrarla hacer la consulta con el facturador | B15: =Evaluación!N31 | I15: {=INDEX('Resumen Evaluación'!$A$30:$A$38, MATCH(1, ('Resumen Evaluación'!$D$30:$D$38=SMALL('Resumen Evaluación'!$D$30:$D$38,8))*( COUNTIF($I$1:I14,'Resumen Evaluación'!$A$30:$A$38)=0), 0))} -> #N/A | J15: =IFERROR(SMALL('Resumen Evaluación'!$D$31:$D$38,8), "")
A16: =Evaluación!A32 -> Revisar que el copago y número de póliza sea correcto | B16: =Evaluación!N32 | I16: {=INDEX('Resumen Evaluación'!$A$30:$A$38, MATCH(1, ('Resumen Evaluación'!$D$30:$D$38=SMALL('Resumen Evaluación'!$D$30:$D$38,9))*( COUNTIF($I$1:I15,'Resumen Evaluación'!$A$30:$A$38)=0), 0))} -> #N/A | J16: =IFERROR(SMALL('Resumen Evaluación'!$D$31:$D$38,9), "")
A17: =Evaluación!A35 -> Resalta la procedencia | B17: =Evaluación!N35 | I17: {=INDEX('Resumen Evaluación'!$A$30:$A$38, MATCH(1, ('Resumen Evaluación'!$D$30:$D$38=SMALL('Resumen Evaluación'!$D$30:$D$38,10))*( COUNTIF($I$1:I16,'Resumen Evaluación'!$A$30:$A$38)=0), 0))} -> #N/A | J17: =IFERROR(SMALL('Resumen Evaluación'!$D$31:$D$38,10), "")
A18: =Evaluación!A36 -> Verifica fecha de emisión y validez | B18: =Evaluación!N36 | I18: {=INDEX('Resumen Evaluación'!$A$30:$A$38, MATCH(1, ('Resumen Evaluación'!$D$30:$D$38=SMALL('Resumen Evaluación'!$D$30:$D$38,11))*( COUNTIF($I$1:I17,'Resumen Evaluación'!$A$30:$A$38)=0), 0))} -> #N/A | J18: =IFERROR(SMALL('Resumen Evaluación'!$D$31:$D$38,11), "")
A19: =Evaluación!A37 -> Datos del paciente | B19: =Evaluación!N37
A20: =Evaluación!A38 -> Pruebas facturadas | B20: =Evaluación!N38
A21: =Evaluación!A39 -> Sigue procedimiento de omisión, si hay de más o por confusión de prueba | B21: =Evaluación!N39
A22: =Evaluación!A40 -> Si no coincide (Procedencia, fecha de validez y datos del paciente) sigue los procedimientos para la corrección de la misma. (Validar conocimientos) | B22: =Evaluación!N40
A23: =Evaluación!A41 -> Verifica firma de solicitud de exámenes en ausencia de una solicitud escrita | B23: =Evaluación!N41
A24: =Evaluación!A42 -> Si existe la solicitud de prueba de HIV, verifica que se encuentre la hoja de consentimiento, de lo contrario sigue el procedimiento | B24: =Evaluación!N42
A25: =Evaluación!A43 -> Verifica firma de VDP contra la copia de la identificación del paciente | B25: =Evaluación!N43
A26: =Evaluación!A44 -> Sube la documentación al +funciones 19 | B26: =Evaluación!N44
A27: =Evaluación!A47 -> ¿Esta activo el botón de legal? | B27: =Evaluación!N47
A28: =Evaluación!A48 -> ¿Revisó la firma de cédula verificada en recepción CVR? | B28: =Evaluación!N48
A29: =Evaluación!A49 -> ¿Revisó la firma de cédula verificada por el flebotomista CVF? | B29: =Evaluación!N49
A30: =Evaluación!A50 -> ¿Siguió procedimiento en caso de ausencia de firmas en CVR y CVF? | B30: =Evaluación!N50
A31: =Evaluación!A51 -> ¿Realizó activación de la verificación legal en el sistema en los datos del cliente? | B31: =Evaluación!N51
A32: =Evaluación!A52 -> ¿Realizó activación legal en los resultados del paciente? | B32: =Evaluación!N52
A33: =Evaluación!A55 -> Actualiza los datos de la VDP | B33: =Evaluación!N55
A34: =Evaluación!A56 -> ¿Revisó el monto del saldo de la boleta contra el sistema? | B34: =Evaluación!N56
A35: =Evaluación!A57 -> ¿Verifica que la factura este impresa? | B35: =Evaluación!N57
A36: =Evaluación!A58 -> a. Si la factura no está impresa sigue el procedimiento (validar conocimientos) | B36: =Evaluación!N58
A37: =Evaluación!A59 -> ¿Verifica que las cuentas al crédito cumplan con las autorizaciones necesarias? | B37: =Evaluación!N59
A38: =Evaluación!A60 -> ¿Verificó y colocó la forma de entrega de los resultados del cliente? (Si es E-mail o médico coloca los ganchos en el sistema) | B38: =Evaluación!N60
A39: =Evaluación!A61 -> ¿Revisó la sección de notas de la boleta y en el sistema para confirmar si el paciente realizó alguna solicitud especial? | B39: =Evaluación!N61
A40: =Evaluación!A64 -> ¿Colocó correctamente el día y hora de promesa? Aplica si el archivo tiene 2 referencias. | B40: =Evaluación!N64
A41: =Evaluación!A65 -> ¿Colocó correctamente hora de toma de muestra? | B41: =Evaluación!N65
A42: =Evaluación!A66 -> Agrega mensaje al Tecnólogo con observaciones relacionadas a las pruebas a realizar (uso de antibióticos, indicación de procedencia de la muestra, etc.) | B42: =Evaluación!N66
A43: =Evaluación!A67 -> Coloca nota cuando el archivo tiene 2 o más referencias asociadas. | B43: =Evaluación!N67
A44: =Evaluación!A68 -> Conoce el procedimiento en el caso de encontrar una boleta provisional de una muestra pendiente (validar conocimientos) | B44: =Evaluación!N68
A45: =Evaluación!A69 -> ¿Colocó nombre del flebotomista en el sistema de acuerdo a lo establecido en el instructivo? | B45: =Evaluación!N69
A46: =Evaluación!A70 -> ¿Ordena la papelería de la admisión de acuerdo al orden establecido? | B46: =Evaluación!N70
A47: =Evaluación!A71 -> ¿Colocó su nombre al lado del código como responsable de haber efectuado la revisión de la admisión? | B47: =Evaluación!N71
A48: =Evaluación!A72 -> Levantó los servicios no conformes encontrados en el procedimiento de la barrera 3 | B48: =Evaluación!N72
A49: =Evaluación!A73 -> Verificar que la Barrera 3 digital se haya completado correctamente, cumpliendo con todos los puntos de revisión de la boleta, y que esta no aparezca en el sistema con el estado «BOLETA SIN REVISAR EN SISTEMA». | B49: =Evaluación!N73
