Workbook

Sheet Evaluación
A1: Evaluación de Personal
A2: Barrera de Control # 3
A3: Área Administrativa
A5: Evaluador | B5: William Sanches
A6: Personal Evaluado | B6: Yuleisi Pineda
A7: Fecha de evaluación | B7: 2026-11-04
A9: Formato de evaluación: Cumple ✔ Cumple Parcialmente ⚠ No Cumple ✘ No Aplica N/A | B9: REVISIÓN | N9: Puntos T.
A10: DESCRIPCIÓN | N10: =IF(B5="","",IF(COUNT(N12:N12)=0,"Sin pacientes",SUMIF(N12:N12,">=0",'Base de puntajes'!B12:B12)))
A11: CLASIFICACIÓN DE ADMISIONES | N11: =IF(B5="","",IF(COUNT(N12:N12)=0,"Sin Pacientes",SUM(N12:N12)))
A12: ¿Realiza clasificación de las admisiones según el orden establecido? ORDEN ESTABLECIDO: Urgentes Promesa del día Promesa futuras POSTERIORMENTE REVISA: Urgentes, pruebas de HIV, antidoping y alcoholemia Con orden médica Sin orden médica | B12: N/A | C12: N/A | D12: N/A | E12: N/A | F12: N/A | G12: N/A | H12: N/A | I12: N/A | J12: N/A | K12: N/A | L12: N/A | M12: N/A | N12: =IF($B$5="","",IF(COUNTA(B12:M12)-COUNTIF(B12:M12,"N/A")=0,"Sin pacientes",'Base de puntajes'!B12*(COUNTIF(B12:M12,"✔")+COUNTIF(B12:M12,"⚠")/2)/(COUNTA(B12:M12)-COUNTIF(B12:M12,"N/A"))))
A13: REVISIÓN DE LOS DATOS DEL PACIENTE | B13: BOLETAS | N13: =IF($B$5="","",IF(COUNT(N15:N17)=0,"Sin pacientes",SUMIF(N15:N17,">=0",'Base de puntajes'!B15:B17)))
B14: 1 | C14: 2 | D14: 3 | E14: 4 | F14: 5 | G14: 6 | H14: 7 | I14: 8 | J14: 9 | K14: 10 | L14: 11 | M14: 12 | N14: =IF($B$5="","",IF(COUNT(N15:N17)=0,"Sin Pacientes",SUM(N15:N17)))
A15: Sexo colocado correctamente | B15: ✔ | C15: ✔ | D15: ✔ | E15: ✔ | F15: ✔ | G15: ✔ | H15: ✔ | I15: ✔ | J15: ✔ | K15: ✔ | L15: ✔ | M15: ✔ | N15: =IF($B$5="","",IF(COUNTA(B15:M15)-COUNTIF(B15:M15,"N/A")=0,"Sin pacientes",'Base de puntajes'!B15*(COUNTIF(B15:M15,"✔")+COUNTIF(B15:M15,"⚠")/2)/(COUNTA(B15:M15)-COUNTIF(B15:M15,"N/A"))))
A16: Verifica si la foto coincide con la edad | B16: N/A | C16: ✔ | D16: N/A | E16: ✔ | F16: ✔ | G16: ✔ | H16: ✔ | I16: ✔ | J16: ✔ | K16: ✔ | L16: ✔ | M16: ✔ | N16: =IF($B$5="","",IF(COUNTA(B16:M16)-COUNTIF(B16:M16,"N/A")=0,"Sin pacientes",'Base de puntajes'!B16*(COUNTIF(B16:M16,"✔")+COUNTIF(B16:M16,"⚠")/2)/(COUNTA(B16:M16)-COUNTIF(B16:M16,"N/A"))))
A17: Si es niña o niño verifica el criterio establecido | B17: N/A | C17: N/A | D17: N/A | E17: N/A | F17: ✔ | G17: N/A | H17: N/A | I17: N/A | J17: N/A | K17: N/A | L17: N/A | M17: ✔ | N17: =IF($B$5="","",IF(COUNTA(B17:M17)-COUNTIF(B17:M17,"N/A")=0,"Sin pacientes",'Base de puntajes'!B17*(COUNTIF(B17:M17,"✔")+COUNTIF(B17:M17,"⚠")/2)/(COUNTA(B17:M17)-COUNTIF(B17:M17,"N/A"))))
A18: REVISIÓN DE SOLICITUD DE EXÁMENES CON ORDEN MÉDICA | B18: BOLETAS | N18: =IF($B$5="","",IF(COUNT(N20:N26)=0,"Sin pacientes",SUMIF(N20:N26,">=0",'Base de puntajes'!B20:B26)))
B19: 1 | C19: 2 | D19: 3 | E19: 4 | F19: 5 | G19: 6 | H19: 7 | I19: 8 | J19: 9 | K19: 10 | L19: 11 | M19: 12 | N19: =IF($B$5="","",IF(COUNT(N20:N26)=0,"Sin Pacientes",SUM(N20:N26)))
A20: Revisa nombre del paciente de la boleta contra el nombre en la orden médica. | B20: ✔ | C20: ✔ | D20: ✔ | E20: ✔ | F20: ✔ | G20: N/A | H20: ✔ | I20: ✔ | J20: ✔ | K20: ✔ | L20: ✔ | M20: ✔ | N20: =IF($B$5="","",IF(COUNTA(B20:M20)-COUNTIF(B20:M20,"N/A")=0,"Sin pacientes",'Base de puntajes'!B20*(COUNTIF(B20:M20,"✔")+COUNTIF(B20:M20,"⚠")/2)/(COUNTA(B20:M20)-COUNTIF(B20:M20,"N/A"))))
A21: Verifica que se coloco el nombre del médico | B21: ✔ | C21: N/A | D21: ✔ | E21: ✔ | F21: ✔ | G21: N/A | H21: ✔ | I21: ✔ | J21: ✔ | K21: ✔ | L21: ✔ | M21: ✔ | N21: =IF($B$5="","",IF(COUNTA(B21:M21)-COUNTIF(B21:M21,"N/A")=0,"Sin pacientes",'Base de puntajes'!B21*(COUNTIF(B21:M21,"✔")+COUNTIF(B21:M21,"⚠")/2)/(COUNTA(B21:M21)-COUNTIF(B21:M21,"N/A"))))
A22: Sigue procedimiento de agregar al médico sino se colocó | B22: N/A | C22: N/A | D22: N/A | E22: N/A | F22: N/A | G22: N/A | H22: N/A | I22: N/A | J22: N/A | K22: N/A | L22: N/A | M22: N/A | N22: =IF($B$5="","",IF(COUNTA(B22:M22)-COUNTIF(B22:M22,"N/A")=0,"Sin pacientes",'Base de puntajes'!B22*(COUNTIF(B22:M22,"✔")+COUNTIF(B22:M22,"⚠")/2)/(COUNTA(B22:M22)-COUNTIF(B22:M22,"N/A"))))
A23: Corrige nombre de médico (Si esta incorrecto) | B23: N/A | C23: N/A | D23: N/A | E23: N/A | F23: N/A | G23: N/A | H23: N/A | I23: N/A | J23: N/A | K23: N/A | L23: N/A | M23: N/A | N23: =IF($B$5="","",IF(COUNTA(B23:M23)-COUNTIF(B23:M23,"N/A")=0,"Sin pacientes",'Base de puntajes'!B23*(COUNTIF(B23:M23,"✔")+COUNTIF(B23:M23,"⚠")/2)/(COUNTA(B23:M23)-COUNTIF(B23:M23,"N/A"))))
A24: Realiza médico por prueba si la admisión tiene más de una orden médica o si amerita se realice (consultar en que casos se hace) | B24: N/A | C24: N/A | D24: N/A | E24: N/A | F24: N/A | G24: N/A | H24: N/A | I24: N/A | J24: N/A | K24: N/A | L24: N/A | M24: N/A | N24: =IF($B$5="","",IF(COUNTA(B24:M24)-COUNTIF(B24:M24,"N/A")=0,"Sin pacientes",'Base de puntajes'!B24*(COUNTIF(B24:M24,"✔")+COUNTIF(B24:M24,"⚠")/2)/(COUNTA(B24:M24)-COUNTIF(B24:M24,"N/A"))))
A25: Si no aparece el médico solicita se agregue al coordinador administrativo | B25: N/A | C25: N/A | D25: N/A | E25: N/A | F25: N/A | G25: N/A | H25: N/A | I25: N/A | J25: N/A | K25: N/A | L25: N/A | M25: N/A | N25: =IF($B$5="","",IF(COUNTA(B25:M25)-COUNTIF(B25:M25,"N/A")=0,"Sin pacientes",'Base de puntajes'!B25*(COUNTIF(B25:M25,"✔")+COUNTIF(B25:M25,"⚠")/2)/(COUNTA(B25:M25)-COUNTIF(B25:M25,"N/A"))))
A26: Firma en R.V.O.M. | B26: ✔ | C26: ✔ | D26: ✔ | E26: ✔ | F26: ✔ | G26: ✔ | H26: ✔ | I26: ✘ | J26: ✔ | K26: ✘ | L26: ✘ | M26: ✔ | N26: =IF($B$5="","",IF(COUNTA(B26:M26)-COUNTIF(B26:M26,"N/A")=0,"Sin pacientes",'Base de puntajes'!B26*(COUNTIF(B26:M26,"✔")+COUNTIF(B26:M26,"⚠")/2)/(COUNTA(B26:M26)-COUNTIF(B26:M26,"N/A"))))
A27: REVISIÓN DE BOLETAS CON PROCEDENCIA DE ASEGURADORAS | B27: BOLETAS | N27: =IF($B$5="","",IF(COUNT(N29:N32)=0,"Sin pacientes",SUMIF(N29:N32,">=0",'Base de puntajes'!B29:B32)))
B28: 1 | C28: 2 | D28: 3 | E28: 4 | F28: 5 | G28: 6 | H28: 7 | I28: 8 | J28: 9 | K28: 10 | L28: 11 | M28: 12 | N28: =IF($B$5="","",IF(COUNT(N29:N32)=0,"Sin Pacientes",SUM(N29:N32)))
A29: Verificar que se haya subido a la herramienta 19 la verificación de la cobertura de la póliza que se realiza a través de la página web | B29: N/A | C29: N/A | D29: N/A | E29: N/A | F29: N/A | G29: N/A | H29: N/A | I29: N/A | J29: N/A | K29: N/A | L29: N/A | M29: N/A | N29: =IF($B$5="","",IF(COUNTA(B29:M29)-COUNTIF(B29:M29,"N/A")=0,"Sin pacientes",'Base de puntajes'!B29*(COUNTIF(B29:M29,"✔")+COUNTIF(B29:M29,"⚠")/2)/(COUNTA(B29:M29)-COUNTIF(B29:M29,"N/A"))))
A30: Garantiza la cobertura de la póliza en aquellas aseguradoras que no tienen verificación de la póliza por la web, copia del carnet del asegurado | B30: N/A | C30: N/A | D30: N/A | E30: N/A | F30: N/A | G30: N/A | H30: N/A | I30: N/A | J30: N/A | K30: N/A | L30: N/A | M30: N/A | N30: =IF($B$5="","",IF(COUNTA(B30:M30)-COUNTIF(B30:M30,"N/A")=0,"Sin pacientes",'Base de puntajes'!B30*(COUNTIF(B30:M30,"✔")+COUNTIF(B30:M30,"⚠")/2)/(COUNTA(B30:M30)-COUNTIF(B30:M30,"N/A"))))
A31: Revisar que el adjunto corresponda al paciente, de no encontrarla hacer la consulta con el facturador | B31: N/A | C31: N/A | D31: N/A | E31: N/A | F31: N/A | G31: N/A | H31: N/A | I31: N/A | J31: N/A | K31: N/A | L31: N/A | M31: N/A | N31: =IF($B$5="","",IF(COUNTA(B31:M31)-COUNTIF(B31:M31,"N/A")=0,"Sin pacientes",'Base de puntajes'!B31*(COUNTIF(B31:M31,"✔")+COUNTIF(B31:M31,"⚠")/2)/(COUNTA(B31:M31)-COUNTIF(B31:M31,"N/A"))))
A32: Revisar que el copago y número de póliza sea correcto | B32: N/A | C32: N/A | D32: N/A | E32: N/A | F32: N/A | G32: N/A | H32: N/A | I32: N/A | J32: N/A | K32: N/A | L32: N/A | M32: N/A | N32: =IF($B$5="","",IF(COUNTA(B32:M32)-COUNTIF(B32:M32,"N/A")=0,"Sin pacientes",'Base de puntajes'!B32*(COUNTIF(B32:M32,"✔")+COUNTIF(B32:M32,"⚠")/2)/(COUNTA(B32:M32)-COUNTIF(B32:M32,"N/A"))))
A33: REVISIÓN DE BOLETAS CON PROCEDENCIA CORPORATIVA | B33: BOLETAS | N33: =IF($B$5="","",IF(COUNT(N35:N44)=0,"Sin pacientes",SUMIF(N35:N44,">=0",'Base de puntajes'!B35:B44)))
B34: 1 | C34: 2 | D34: 3 | E34: 4 | F34: 5 | G34: 6 | H34: 7 | I34: 8 | J34: 9 | K34: 10 | L34: 11 | M34: 12 | N34: =IF($B$5="","",IF(COUNT(N35:N44)=0,"Sin Pacientes",SUM(N35:N44)))
A35: Resalta la procedencia | B35: N/A | C35: ✔ | D35: N/A | E35: N/A | F35: N/A | G35: N/A | H35: N/A | I35: N/A | J35: N/A | K35: N/A | L35: N/A | M35: N/A | N35: =IF($B$5="","",IF(COUNTA(B35:M35)-COUNTIF(B35:M35,"N/A")=0,"Sin pacientes",'Base de puntajes'!B35*(COUNTIF(B35:M35,"✔")+COUNTIF(B35:M35,"⚠")/2)/(COUNTA(B35:M35)-COUNTIF(B35:M35,"N/A"))))
A36: Verifica fecha de emisión y validez | B36: N/A | C36: ✔ | D36: N/A | E36: N/A | F36: N/A | G36: N/A | H36: N/A | I36: N/A | J36: N/A | K36: N/A | L36: N/A | M36: N/A | N36: =IF($B$5="","",IF(COUNTA(B36:M36)-COUNTIF(B36:M36,"N/A")=0,"Sin pacientes",'Base de puntajes'!B36*(COUNTIF(B36:M36,"✔")+COUNTIF(B36:M36,"⚠")/2)/(COUNTA(B36:M36)-COUNTIF(B36:M36,"N/A"))))
A37: Datos del paciente | B37: N/A | C37: ⚠ | D37: N/A | E37: N/A | F37: N/A | G37: N/A | H37: N/A | I37: N/A | J37: N/A | K37: N/A | L37: N/A | M37: N/A | N37: =IF($B$5="","",IF(COUNTA(B37:M37)-COUNTIF(B37:M37,"N/A")=0,"Sin pacientes",'Base de puntajes'!B37*(COUNTIF(B37:M37,"✔")+COUNTIF(B37:M37,"⚠")/2)/(COUNTA(B37:M37)-COUNTIF(B37:M37,"N/A"))))
A38: Pruebas facturadas | B38: N/A | C38: ✔ | D38: N/A | E38: N/A | F38: N/A | G38: N/A | H38: N/A | I38: N/A | J38: N/A | K38: N/A | L38: N/A | M38: N/A | N38: =IF($B$5="","",IF(COUNTA(B38:M38)-COUNTIF(B38:M38,"N/A")=0,"Sin pacientes",'Base de puntajes'!B38*(COUNTIF(B38:M38,"✔")+COUNTIF(B38:M38,"⚠")/2)/(COUNTA(B38:M38)-COUNTIF(B38:M38,"N/A"))))
A39: Sigue procedimiento de omisión, si hay de más o por confusión de prueba | B39: N/A | C39: N/A | D39: N/A | E39: N/A | F39: N/A | G39: N/A | H39: N/A | I39: N/A | J39: N/A | K39: N/A | L39: N/A | M39: N/A | N39: =IF($B$5="","",IF(COUNTA(B39:M39)-COUNTIF(B39:M39,"N/A")=0,"Sin pacientes",'Base de puntajes'!B39*(COUNTIF(B39:M39,"✔")+COUNTIF(B39:M39,"⚠")/2)/(COUNTA(B39:M39)-COUNTIF(B39:M39,"N/A"))))
A40: Si no coincide (Procedencia, fecha de validez y datos del paciente) sigue los procedimientos para la corrección de la misma. (Validar conocimientos) | B40: N/A | C40: N/A | D40: N/A | E40: N/A | F40: N/A | G40: N/A | H40: N/A | I40: N/A | J40: N/A | K40: N/A | L40: N/A | M40: N/A | N40: =IF($B$5="","",IF(COUNTA(B40:M40)-COUNTIF(B40:M40,"N/A")=0,"Sin pacientes",'Base de puntajes'!B40*(COUNTIF(B40:M40,"✔")+COUNTIF(B40:M40,"⚠")/2)/(COUNTA(B40:M40)-COUNTIF(B40:M40,"N/A"))))
A41: Verifica firma de solicitud de exámenes en ausencia de una solicitud escrita | B41: N/A | C41: N/A | D41: N/A | E41: N/A | F41: N/A | G41: N/A | H41: N/A | I41: N/A | J41: N/A | K41: N/A | L41: N/A | M41: N/A | N41: =IF($B$5="","",IF(COUNTA(B41:M41)-COUNTIF(B41:M41,"N/A")=0,"Sin pacientes",'Base de puntajes'!B41*(COUNTIF(B41:M41,"✔")+COUNTIF(B41:M41,"⚠")/2)/(COUNTA(B41:M41)-COUNTIF(B41:M41,"N/A"))))
A42: Si existe la solicitud de prueba de HIV, verifica que se encuentre la hoja de consentimiento, de lo contrario sigue el procedimiento | B42: N/A | C42: N/A | D42: N/A | E42: N/A | F42: N/A | G42: N/A | H42: N/A | I42: N/A | J42: N/A | K42: N/A | L42: N/A | M42: N/A | N42: =IF($B$5="","",IF(COUNTA(B42:M42)-COUNTIF(B42:M42,"N/A")=0,"Sin pacientes",'Base de puntajes'!B42*(COUNTIF(B42:M42,"✔")+COUNTIF(B42:M42,"⚠")/2)/(COUNTA(B42:M42)-COUNTIF(B42:M42,"N/A"))))
...

Sheet Base de puntajes
J1: =A79 -> Descripción | K1: =C79 -> Porcentaje
J2: {=INDEX($A$80:$A$87, MATCH(1, ($C$80:$C$87=LARGE($C$80:$C$87,1))*(COUNTIF($J$1:J1, $A$80:$A$87)=0), 0))} -> REVISIÓN DE BOLETAS CON PROCEDENCIA CORPORATIVA | K2: =IFERROR(LARGE($C$80:$C$87,1), "") -> 0.20942408
A3: Puntuación del FC-RALY-159 | J3: {=INDEX($A$80:$A$87, MATCH(1, ($C$80:$C$87=LARGE($C$80:$C$87,2))*(COUNTIF($J$1:J2, $A$80:$A$87)=0), 0))} -> OTRAS VERIFICACIONES Y CIERRE DE BARRERA 3 | K3: =IFERROR(LARGE($C$80:$C$87,2), "") -> 0.17801047
J4: {=INDEX($A$80:$A$87, MATCH(1, ($C$80:$C$87=LARGE($C$80:$C$87,3))*(COUNTIF($J$1:J3, $A$80:$A$87)=0), 0))} -> REVISIÓN DE BOLETA PARA TRÁMITE LEGAL | K4: =IFERROR(LARGE($C$80:$C$87,3), "") -> 0.15183246
J5: {=INDEX($A$80:$A$87, MATCH(1, ($C$80:$C$87=LARGE($C$80:$C$87,4))*(COUNTIF($J$1:J4, $A$80:$A$87)=0), 0))} -> REVISIÓN DE SOLICITUD DE EXÁMENES CON ORDEN MÉDICA | K5: =IFERROR(LARGE($C$80:$C$87,4), "") -> 0.14136126
J6: {=INDEX($A$80:$A$87, MATCH(1, ($C$80:$C$87=LARGE($C$80:$C$87,5))*(COUNTIF($J$1:J5, $A$80:$A$87)=0), 0))} -> REVISIÓN DE LA VDP Y BOLETA | K6: =IFERROR(LARGE($C$80:$C$87,5), "") -> 0.13612565
J7: {=INDEX($A$80:$A$87, MATCH(1, ($C$80:$C$87=LARGE($C$80:$C$87,6))*(COUNTIF($J$1:J6, $A$80:$A$87)=0), 0))} -> REVISIÓN DE BOLETAS CON PROCEDENCIA DE ASEGURADORAS | K7: =IFERROR(LARGE($C$80:$C$87,6), "") -> 0.089005236
J8: {=INDEX($A$80:$A$87, MATCH(1, ($C$80:$C$87=LARGE($C$80:$C$87,7))*(COUNTIF($J$1:J7, $A$80:$A$87)=0), 0))} -> REVISIÓN DE LOS DATOS DEL PACIENTE | K8: =IFERROR(LARGE($C$80:$C$87,7), "") -> 0.068062827
A9: =Evaluación!A9 -> Formato de evaluación: Cumple ✔ Cumple Parcialmente ⚠ No Cumple ✘ No Aplica N/A | G9: Puntos | H9: Nivel de importancia
A10: =Evaluación!A10 -> DESCRIPCIÓN | B10: =SUM(B12:B12) -> 5 | G10: 5 | H10: Crítico: identificación, seguridad del paciente, confidencialidad o requisitos legales.
G11: 4 | H11: Alto: errores que afectan significativamente los procesos o requieren aplicar procedimientos especiales.
A12: =Evaluación!A12 -> ¿Realiza clasificación de las admisiones según el orden establecido? ORDEN ESTABLECIDO: Urgentes Promesa del día Promesa futuras POSTERIORMENTE REVISA: Urgentes, pruebas de HIV, antidoping y alcoholemia Con orden médica Sin orden médica | B12: 5 | G12: 3 | H12: Medio: verificaciones importantes o frecuentes.
A13: =Evaluación!A13 -> REVISIÓN DE LOS DATOS DEL PACIENTE | B13: =SUM(B15:B17) -> 13 | G13: 2 | H13: Básico: registros y verificaciones rutinarias.
G14: 1 | H14: Simple: actividades administrativas de fácil ejecución.
A15: =Evaluación!A15 -> Sexo colocado correctamente | B15: 5
A16: =Evaluación!A16 -> Verifica si la foto coincide con la edad | B16: 3
A17: =Evaluación!A17 -> Si es niña o niño verifica el criterio establecido | B17: 5
A18: =Evaluación!A18 -> REVISIÓN DE SOLICITUD DE EXÁMENES CON ORDEN MÉDICA | B18: =SUM(B20:B26) -> 27
A20: =Evaluación!A20 -> Revisa nombre del paciente de la boleta contra el nombre en la orden médica. | B20: 5
A21: =Evaluación!A21 -> Verifica que se coloco el nombre del médico | B21: 5
A22: =Evaluación!A22 -> Sigue procedimiento de agregar al médico sino se colocó | B22: 3
A23: =Evaluación!A23 -> Corrige nombre de médico (Si esta incorrecto) | B23: 5
A24: =Evaluación!A24 -> Realiza médico por prueba si la admisión tiene más de una orden médica o si amerita se realice (consultar en que casos se hace) | B24: 4
A25: =Evaluación!A25 -> Si no aparece el médico solicita se agregue al coordinador administrativo | B25: 3
A26: =Evaluación!A26 -> Firma en R.V.O.M. | B26: 2
A27: =Evaluación!A27 -> REVISIÓN DE BOLETAS CON PROCEDENCIA DE ASEGURADORAS | B27: =SUM(B29:B32) -> 17
A29: =Evaluación!A29 -> Verificar que se haya subido a la herramienta 19 la verificación de la cobertura de la póliza que se realiza a través de la página web | B29: 4
A30: =Evaluación!A30 -> Garantiza la cobertura de la póliza en aquellas aseguradoras que no tienen verificación de la póliza por la web, copia del carnet del asegurado | B30: 4
A31: =Evaluación!A31 -> Revisar que el adjunto corresponda al paciente, de no encontrarla hacer la consulta con el facturador | B31: 5
A32: =Evaluación!A32 -> Revisar que el copago y número de póliza sea correcto | B32: 4
A33: =Evaluación!A33 -> REVISIÓN DE BOLETAS CON PROCEDENCIA CORPORATIVA | B33: =SUM(B35:B44) -> 40
A35: =Evaluación!A35 -> Resalta la procedencia | B35: 1
A36: =Evaluación!A36 -> Verifica fecha de emisión y validez | B36: 4
A37: =Evaluación!A37 -> Datos del paciente | B37: 5
A38: =Evaluación!A38 -> Pruebas facturadas | B38: 5
A39: =Evaluación!A39 -> Sigue procedimiento de omisión, si hay de más o por confusión de prueba | B39: 4
A40: =Evaluación!A40 -> Si no coincide (Procedencia, fecha de validez y datos del paciente) sigue los procedimientos para la corrección de la misma. (Validar conocimientos) | B40: 5
A41: =Evaluación!A41 -> Verifica firma de solicitud de exámenes en ausencia de una solicitud escrita | B41: 4
A42: =Evaluación!A42 -> Si existe la solicitud de prueba de HIV, verifica que se encuentre la hoja de consentimiento, de lo contrario sigue el procedimiento | B42: 5
A43: =Evaluación!A43 -> Verifica firma de VDP contra la copia de la identificación del paciente | B43: 5
...

Sheet Resumen Evaluación
A1: RESUMEN DE EVALUACIÓN - DATOS
A3: Mayor perdidas de puntos proporcional en: | F3: Mayor cantidad de Incidencias en:
A4: Nº | B4: Sección de Incidencia | F4: Nº | G4: Items de Incidencia | H4: Incidencias
A5: 1 | B5: =IF(B9="⏰ Evaluando", "⏰ Evaluando", INDEX(A$31:A$38, MATCH(SMALL(D$31:D$38, 1), D$31:D$38, 0))) -> ⏰ Evaluando | F5: 1 | G5: =IF($B$9="⏰ Evaluando", "⏰ Evaluando", IF($B$9="", "", 'Base de datos de Item'!D2)) -> ⏰ Evaluando | H5: =IF($B$9="⏰ Evaluando", "⏰ Evaluando", IF($B$9="", "", 'Base de datos de Item'!E2)) -> ⏰ Evaluando
A6: 2 | B6: =IF(B9="⏰ Evaluando", "⏰ Evaluando", INDEX(A$31:A$38, MATCH(SMALL(D$31:D$38, 2), D$31:D$38, 0))) -> ⏰ Evaluando | F6: 2 | G6: =IF($B$9="⏰ Evaluando", "⏰ Evaluando", IF($B$9="", "", 'Base de datos de Item'!D3)) -> ⏰ Evaluando | H6: =IF($B$9="⏰ Evaluando", "⏰ Evaluando", IF($B$9="", "", 'Base de datos de Item'!E3)) -> ⏰ Evaluando
A7: 3 | B7: {=IF(B9="⏰ Evaluando", "⏰ Evaluando", INDEX(A$31:A$38, Z32))} -> ⏰ Evaluando | F7: 3 | G7: =IF($B$9="⏰ Evaluando", "⏰ Evaluando", IF($B$9="", "", 'Base de datos de Item'!D4)) -> ⏰ Evaluando | H7: =IF($B$9="⏰ Evaluando", "⏰ Evaluando", IF($B$9="", "", 'Base de datos de Item'!E4)) -> ⏰ Evaluando
A9: Puntos totales | B9: =IF(B39=0,"",C39/B39)
A29: Datos Comparativos | M29: =$G31>=SMALL($D$31:$D$38,3) -> #NUM!
A30: Descripción | B30: Puntos Totales | C30: Puntos obtenidos | D30: Calificación por sección | E30: Porcentaje Total | F30: Porcentaje Obtenido | G30: Diferencia de puntos | H30: Diferencia de % | V30: ✔ | W30: 2 | X30: 3 | Z30: =SMALL(D$31:D$38,3) -> #NUM!
A31: =Evaluación!A11 -> CLASIFICACIÓN DE ADMISIONES | B31: =Evaluación!B103 | C31: =Evaluación!H103 | D31: =IF(AND(ISNUMBER(B31),ISNUMBER(C31),B31>0),C31/B31,"") | E31: =IF(AND(ISNUMBER(B31),$B$39>0),B31/$B$39,0) | F31: =IF(AND(ISNUMBER(C31),$B$39>0),C31/$B$39,0) | G31: =IF(AND(ISNUMBER(B31),ISNUMBER(C31)),B31-C31,"") | H31: =IF(AND(ISNUMBER(E31),ISNUMBER(F31)),E31-F31,"") | V31: ⚠ | W31: 1 | X31: 2
A32: =Evaluación!A13 -> REVISIÓN DE LOS DATOS DEL PACIENTE | B32: =Evaluación!B104 | C32: =Evaluación!H104 | D32: =IF(AND(ISNUMBER(B32),ISNUMBER(C32),B32>0),C32/B32,"") | E32: =IF(AND(ISNUMBER(B32),$B$39>0),B32/$B$39,0) | F32: =IF(AND(ISNUMBER(C32),$B$39>0),C32/$B$39,0) | G32: =IF(AND(ISNUMBER(B32),ISNUMBER(C32)),B32-C32,"") | H32: =IF(AND(ISNUMBER(E32),ISNUMBER(F32)),E32-F32,"") | V32: ✘ | W32: 0 | X32: 1 | Z32: {=MATCH(1, (D$31:D$38=Z30)*(G$31:G$38=MIN(IF(D$31:D$38=Z30, G$31:G$38))), 0)} -> #N/A
A33: =Evaluación!A18 -> REVISIÓN DE SOLICITUD DE EXÁMENES CON ORDEN MÉDICA | B33: =Evaluación!B105 | C33: =Evaluación!H105 | D33: =IF(AND(ISNUMBER(B33),ISNUMBER(C33),B33>0),C33/B33,"") | E33: =IF(AND(ISNUMBER(B33),$B$39>0),B33/$B$39,0) | F33: =IF(AND(ISNUMBER(C33),$B$39>0),C33/$B$39,0) | G33: =IF(AND(ISNUMBER(B33),ISNUMBER(C33)),B33-C33,"") | H33: =IF(AND(ISNUMBER(E33),ISNUMBER(F33)),E33-F33,"") | V33: N/A
A34: =Evaluación!A27 -> REVISIÓN DE BOLETAS CON PROCEDENCIA DE ASEGURADORAS | B34: =Evaluación!B106 | C34: =Evaluación!H106 | D34: =IF(AND(ISNUMBER(B34),ISNUMBER(C34),B34>0),C34/B34,"") | E34: =IF(AND(ISNUMBER(B34),$B$39>0),B34/$B$39,0) | F34: =IF(AND(ISNUMBER(C34),$B$39>0),C34/$B$39,0) | G34: =IF(AND(ISNUMBER(B34),ISNUMBER(C34)),B34-C34,"") | H34: =IF(AND(ISNUMBER(E34),ISNUMBER(F34)),E34-F34,"")
A35: =Evaluación!A33 -> REVISIÓN DE BOLETAS CON PROCEDENCIA CORPORATIVA | B35: =Evaluación!B107 | C35: =Evaluación!H107 | D35: =IF(AND(ISNUMBER(B35),ISNUMBER(C35),B35>0),C35/B35,"") | E35: =IF(AND(ISNUMBER(B35),$B$39>0),B35/$B$39,0) | F35: =IF(AND(ISNUMBER(C35),$B$39>0),C35/$B$39,0) | G35: =IF(AND(ISNUMBER(B35),ISNUMBER(C35)),B35-C35,"") | H35: =IF(AND(ISNUMBER(E35),ISNUMBER(F35)),E35-F35,"")
A36: =Evaluación!A45 -> REVISIÓN DE BOLETA PARA TRÁMITE LEGAL | B36: =Evaluación!B108 | C36: =Evaluación!H108 | D36: =IF(AND(ISNUMBER(B36),ISNUMBER(C36),B36>0),C36/B36,"") | E36: =IF(AND(ISNUMBER(B36),$B$39>0),B36/$B$39,0) | F36: =IF(AND(ISNUMBER(C36),$B$39>0),C36/$B$39,0) | G36: =IF(AND(ISNUMBER(B36),ISNUMBER(C36)),B36-C36,"") | H36: =IF(AND(ISNUMBER(E36),ISNUMBER(F36)),E36-F36,"")
A37: =Evaluación!A53 -> REVISIÓN DE LA VDP Y BOLETA | B37: =Evaluación!B109 | C37: =Evaluación!H109 | D37: =IF(AND(ISNUMBER(B37),ISNUMBER(C37),B37>0),C37/B37,"") | E37: =IF(AND(ISNUMBER(B37),$B$39>0),B37/$B$39,0) | F37: =IF(AND(ISNUMBER(C37),$B$39>0),C37/$B$39,0) | G37: =IF(AND(ISNUMBER(B37),ISNUMBER(C37)),B37-C37,"") | H37: =IF(AND(ISNUMBER(E37),ISNUMBER(F37)),E37-F37,"")
A38: =Evaluación!A62 -> OTRAS VERIFICACIONES Y CIERRE DE BARRERA 3 | B38: =Evaluación!B110 | C38: =Evaluación!H110 | D38: =IF(AND(ISNUMBER(B38),ISNUMBER(C38),B38>0),C38/B38,"") | E38: =IF(AND(ISNUMBER(B38),$B$39>0),B38/$B$39,0) | F38: =IF(AND(ISNUMBER(C38),$B$39>0),C38/$B$39,0) | G38: =IF(AND(ISNUMBER(B38),ISNUMBER(C38)),B38-C38,"") | H38: =IF(AND(ISNUMBER(E38),ISNUMBER(F38)),E38-F38,"")
A39: TOTAL | B39: =SUM(B31:B38) | C39: =SUM(C31:C38) | D39: =IF(B39>0,C39/B39,0) | E39: =IF(B39>0,1,0) | F39: =IF(B39>0,C39/B39,0) | G39: =B39-C39 | H39: =E39-F39
A41: Definición
B42: Mayor perdida de puntos
B43: Segunda perdida de puntos

Sheet Base de datos de Item
A1: Descripción | B1: Cantidad | I1: Descripción | J1: Porcentaje Obtenido
A2: =Evaluación!A12 -> ¿Realiza clasificación de las admisiones según el orden establecido? ORDEN ESTABLECIDO: Urgentes Promesa del día Promesa futuras POSTERIORMENTE REVISA: Urgentes, pruebas de HIV, antidoping y alcoholemia Con orden médica Sin orden médica | B2: =Evaluación!N12 | D2: {=INDEX(A:A, MATCH(1, (B:B=LARGE(B:B,1))*(COUNTIF($D$1:D1, A:A)=0), 0))} -> #N/A | E2: =IFERROR(LARGE(B:B,1), "") | I2: {=INDEX('Resumen Evaluación'!$A$30:$A$38, MATCH(1, ('Resumen Evaluación'!$D$30:$D$38=SMALL('Resumen Evaluación'!$D$30:$D$38,1))*( COUNTIF($I$1:I1,'Resumen Evaluación'!$A$30:$A$38)=0), 0))} -> #N/A | J2: =IFERROR(SMALL('Resumen Evaluación'!$D$31:$D$38,1), "")
A3: =Evaluación!A15 -> Sexo colocado correctamente | B3: =Evaluación!N15 | D3: {=INDEX(A:A, MATCH(1, (B:B=LARGE(B:B,2))*(COUNTIF($D$1:D2, A:A)=0), 0))} -> #N/A | E3: =IFERROR(LARGE(B:B,2), "") | I3: {=INDEX('Resumen Evaluación'!$A$30:$A$38, MATCH(1, ('Resumen Evaluación'!$D$30:$D$38=SMALL('Resumen Evaluación'!$D$30:$D$38,2))*( COUNTIF($I$1:I2,'Resumen Evaluación'!$A$30:$A$38)=0), 0))} -> #N/A | J3: =IFERROR(SMALL('Resumen Evaluación'!$D$31:$D$38,2), "")
A4: =Evaluación!A16 -> Verifica si la foto coincide con la edad | B4: =Evaluación!N16 | D4: {=INDEX(A:A, MATCH(1, (B:B=LARGE(B:B,3))*(COUNTIF($D$1:D3, A:A)=0), 0))} -> #N/A | E4: =IFERROR(LARGE(B:B,3), "") | I4: {=INDEX('Resumen Evaluación'!$A$30:$A$38, MATCH(1, ('Resumen Evaluación'!$D$30:$D$38=SMALL('Resumen Evaluación'!$D$30:$D$38,3))*( COUNTIF($I$1:I3,'Resumen Evaluación'!$A$30:$A$38)=0), 0))} -> #N/A | J4: =IFERROR(SMALL('Resumen Evaluación'!$D$31:$D$38,3), "")
A5: =Evaluación!A17 -> Si es niña o niño verifica el criterio establecido | B5: =Evaluación!N17 | I5: {=INDEX('Resumen Evaluación'!$A$30:$A$38, MATCH(1, ('Resumen Evaluación'!$D$30:$D$38=SMALL('Resumen Evaluación'!$D$30:$D$38,4))*( COUNTIF($I$1:I4,'Resumen Evaluación'!$A$30:$A$38)=0), 0))} -> #N/A | J5: =IFERROR(SMALL('Resumen Evaluación'!$D$31:$D$38,4), "")
A6: =Evaluación!A20 -> Revisa nombre del paciente de la boleta contra el nombre en la orden médica. | B6: =Evaluación!N20 | I6: {=INDEX('Resumen Evaluación'!$A$30:$A$38, MATCH(1, ('Resumen Evaluación'!$D$30:$D$38=SMALL('Resumen Evaluación'!$D$30:$D$38,5))*( COUNTIF($I$1:I5,'Resumen Evaluación'!$A$30:$A$38)=0), 0))} -> #N/A | J6: =IFERROR(SMALL('Resumen Evaluación'!$D$31:$D$38,5), "")
A7: =Evaluación!A21 -> Verifica que se coloco el nombre del médico | B7: =Evaluación!N21
A8: =Evaluación!A22 -> Sigue procedimiento de agregar al médico sino se colocó | B8: =Evaluación!N22
A9: =Evaluación!A23 -> Corrige nombre de médico (Si esta incorrecto) | B9: =Evaluación!N23
A10: =Evaluación!A24 -> Realiza médico por prueba si la admisión tiene más de una orden médica o si amerita se realice (consultar en que casos se hace) | B10: =Evaluación!N24
A11: =Evaluación!A25 -> Si no aparece el médico solicita se agregue al coordinador administrativo | B11: =Evaluación!N25
A12: =Evaluación!A26 -> Firma en R.V.O.M. | B12: =Evaluación!N26
A13: =Evaluación!A29 -> Verificar que se haya subido a la herramienta 19 la verificación de la cobertura de la póliza que se realiza a través de la página web | B13: =Evaluación!N29 | I13: {=INDEX('Resumen Evaluación'!$A$30:$A$38, MATCH(1, ('Resumen Evaluación'!$D$30:$D$38=SMALL('Resumen Evaluación'!$D$30:$D$38,6))*( COUNTIF($I$1:I6,'Resumen Evaluación'!$A$30:$A$38)=0), 0))} -> #N/A | J13: =IFERROR(SMALL('Resumen Evaluación'!$D$31:$D$38,6), "")
A14: =Evaluación!A30 -> Garantiza la cobertura de la póliza en aquellas aseguradoras que no tienen verificación de la póliza por la web, copia del carnet del asegurado | B14: =Evaluación!N30 | I14: {=INDEX('Resumen Evaluación'!$A$30:$A$38, MATCH(1, ('Resumen Evaluación'!$D$30:$D$38=SMALL('Resumen Evaluación'!$D$30:$D$38,7))*( COUNTIF($I$1:I13,'Resumen Evaluación'!$A$30:$A$38)=0), 0))} -> #N/A | J14: =IFERROR(SMALL('Resumen Evaluación'!$D$31:$D$38,7), "")
A15: =Evaluación!A31 -> Revisar que el adjunto corresponda al paciente, de no encontrarla hacer la consulta con el facturador | B15: =Evaluación!N31 | I15: {=INDEX('Resumen Evaluación'!$A$30:$A$38, MATCH(1, ('Resumen Evaluación'!$D$30:$D$38=SMALL('Resumen Evaluación'!$D$30:$D$38,8))*( COUNTIF($I$1:I14,'Resumen Evaluación'!$A$30:$A$38)=0), 0))} -> #N/A | J15: =IFERROR(SMALL('Resumen Evaluación'!$D$31:$D$38,8), "")
A16: =Evaluación!A32 -> Revisar que el copago y número de póliza sea correcto | B16: =Evaluación!N32 | I16: {=INDEX('Resumen Evaluación'!$A$30:$A$38, MATCH(1, ('Resumen Evaluación'!$D$30:$D$38=SMALL('Resumen Evaluación'!$D$30:$D$38,9))*( COUNTIF($I$1:I15,'Resumen Evaluación'!$A$30:$A$38)=0), 0))} -> #N/A | J16: =IFERROR(SMALL('Resumen Evaluación'!$D$31:$D$38,9), "")
A17: =Evaluación!A35 -> Resalta la procedencia | B17: =Evaluación!N35 | I17: {=INDEX('Resumen Evaluación'!$A$30:$A$38, MATCH(1, ('Resumen Evaluación'!$D$30:$D$38=SMALL('Resumen Evaluación'!$D$30:$D$38,10))*( COUNTIF($I$1:I16,'Resumen Evaluación'!$A$30:$A$38)=0), 0))} -> #N/A | J17: =IFERROR(SMALL('Resumen Evaluación'!$D$31:$D$38,10), "")
A18: =Evaluación!A36 -> Verifica fecha de emisión y validez | B18: =Evaluación!N36 | I18: {=INDEX('Resumen Evaluación'!$A$30:$A$38, MATCH(1, ('Resumen Evaluación'!$D$30:$D$38=SMALL('Resumen Evaluación'!$D$30:$D$38,11))*( COUNTIF($I$1:I17,'Resumen Evaluación'!$A$30:$A$38)=0), 0))} -> #N/A | J18: =IFERROR(SMALL('Resumen Evaluación'!$D$31:$D$38,11), "")
A19: =Evaluación!A37 -> Datos del paciente | B19: =Evaluación!N37
A20: =Evaluación!A38 -> Pruebas facturadas | B20: =Evaluación!N38
A21: =Evaluación!A39 -> Sigue procedimiento de omisión, si hay de más o por confusión de prueba | B21: =Evaluación!N39
A22: =Evaluación!A40 -> Si no coincide (Procedencia, fecha de validez y datos del paciente) sigue los procedimientos para la corrección de la misma. (Validar conocimientos) | B22: =Evaluación!N40
A23: =Evaluación!A41 -> Verifica firma de solicitud de exámenes en ausencia de una solicitud escrita | B23: =Evaluación!N41
A24: =Evaluación!A42 -> Si existe la solicitud de prueba de HIV, verifica que se encuentre la hoja de consentimiento, de lo contrario sigue el procedimiento | B24: =Evaluación!N42
A25: =Evaluación!A43 -> Verifica firma de VDP contra la copia de la identificación del paciente | B25: =Evaluación!N43
A26: =Evaluación!A44 -> Sube la documentación al +funciones 19 | B26: =Evaluación!N44
A27: =Evaluación!A47 -> ¿Esta activo el botón de legal? | B27: =Evaluación!N47
A28: =Evaluación!A48 -> ¿Revisó la firma de cédula verificada en recepción CVR? | B28: =Evaluación!N48
A29: =Evaluación!A49 -> ¿Revisó la firma de cédula verificada por el flebotomista CVF? | B29: =Evaluación!N49
A30: =Evaluación!A50 -> ¿Siguió procedimiento en caso de ausencia de firmas en CVR y CVF? | B30: =Evaluación!N50
A31: =Evaluación!A51 -> ¿Realizó activación de la verificación legal en el sistema en los datos del cliente? | B31: =Evaluación!N51
A32: =Evaluación!A52 -> ¿Realizó activación legal en los resultados del paciente? | B32: =Evaluación!N52
A33: =Evaluación!A55 -> Actualiza los datos de la VDP | B33: =Evaluación!N55
A34: =Evaluación!A56 -> ¿Revisó el monto del saldo de la boleta contra el sistema? | B34: =Evaluación!N56
A35: =Evaluación!A57 -> ¿Verifica que la factura este impresa? | B35: =Evaluación!N57
A36: =Evaluación!A58 -> a. Si la factura no está impresa sigue el procedimiento (validar conocimientos) | B36: =Evaluación!N58
A37: =Evaluación!A59 -> ¿Verifica que las cuentas al crédito cumplan con las autorizaciones necesarias? | B37: =Evaluación!N59
A38: =Evaluación!A60 -> ¿Verificó y colocó la forma de entrega de los resultados del cliente? (Si es E-mail o médico coloca los ganchos en el sistema) | B38: =Evaluación!N60
A39: =Evaluación!A61 -> ¿Revisó la sección de notas de la boleta y en el sistema para confirmar si el paciente realizó alguna solicitud especial? | B39: =Evaluación!N61
A40: =Evaluación!A64 -> ¿Colocó correctamente el día y hora de promesa? Aplica si el archivo tiene 2 referencias. | B40: =Evaluación!N64
...
